



BEGIN:VCALENDAR
VERSION:2.0
PRODID:-//BeMore - ECPv6.15.1//NONSGML v1.0//EN
CALSCALE:GREGORIAN
METHOD:PUBLISH
X-ORIGINAL-URL:https://stage-bemore.awtg.net
X-WR-CALDESC:Events for BeMore
REFRESH-INTERVAL;VALUE=DURATION:PT1H
X-Robots-Tag:noindex
X-PUBLISHED-TTL:PT1H
BEGIN:VTIMEZONE
TZID:UTC
BEGIN:STANDARD
TZOFFSETFROM:+0000
TZOFFSETTO:+0000
TZNAME:UTC
DTSTART:20250101T000000
END:STANDARD
END:VTIMEZONE
BEGIN:VEVENT
DTSTART;TZID=UTC:20250811T130000
DTEND;TZID=UTC:20250811T130000
DTSTAMP:20260425T233122
CREATED:20221018T181508Z
LAST-MODIFIED:20221018T181509Z
UID:10007559-1754917200-1754917200@stage-bemore.awtg.net
SUMMARY:CV DROP IN
DESCRIPTION:
URL:https://stage-bemore.awtg.net/events/cv-drop-in/2025-08-11/
LOCATION:Thrive\, 21-23 Preston Street\, Liverpool\, Liverpool\, L1 6DP\, United Kingdom
ATTACH;FMTTYPE=image/jpeg:https://stage-bemore.awtg.net/wp-content/uploads/2022/10/Thrive.jpg
GEO:53.408947259526;-2.9849363644176
X-APPLE-STRUCTURED-LOCATION;VALUE=URI;X-ADDRESS=Thrive 21-23 Preston Street Liverpool Liverpool L1 6DP United Kingdom;X-APPLE-RADIUS=500;X-TITLE=21-23 Preston Street:geo:-2.9849363644176,53.408947259526
END:VEVENT
BEGIN:VEVENT
DTSTART;TZID=UTC:20250811T103000
DTEND;TZID=UTC:20250811T103000
DTSTAMP:20260425T233122
CREATED:20221018T181857Z
LAST-MODIFIED:20221018T181858Z
UID:10008712-1754908200-1754908200@stage-bemore.awtg.net
SUMMARY:TRAINING WITH THE LEARNING FOUNDRY
DESCRIPTION:
URL:https://stage-bemore.awtg.net/events/training-with-the-learning-foundry/2025-08-11/
LOCATION:Thrive\, 21-23 Preston Street\, Liverpool\, Liverpool\, L1 6DP\, United Kingdom
ATTACH;FMTTYPE=image/jpeg:https://stage-bemore.awtg.net/wp-content/uploads/2022/10/Thrive.jpg
GEO:53.408947259526;-2.9849363644176
X-APPLE-STRUCTURED-LOCATION;VALUE=URI;X-ADDRESS=Thrive 21-23 Preston Street Liverpool Liverpool L1 6DP United Kingdom;X-APPLE-RADIUS=500;X-TITLE=21-23 Preston Street:geo:-2.9849363644176,53.408947259526
END:VEVENT
BEGIN:VEVENT
DTSTART;TZID=UTC:20250811T103000
DTEND;TZID=UTC:20250811T103000
DTSTAMP:20260425T233122
CREATED:20221018T181702Z
LAST-MODIFIED:20221018T181703Z
UID:10007636-1754908200-1754908200@stage-bemore.awtg.net
SUMMARY:DBS EXPERIENCE PROGRAMME
DESCRIPTION:
URL:https://stage-bemore.awtg.net/events/dbs-experience-programme/2025-08-11/
LOCATION:Thrive\, 21-23 Preston Street\, Liverpool\, Liverpool\, L1 6DP\, United Kingdom
ATTACH;FMTTYPE=image/jpeg:https://stage-bemore.awtg.net/wp-content/uploads/2022/10/Thrive.jpg
GEO:53.408947259526;-2.9849363644176
X-APPLE-STRUCTURED-LOCATION;VALUE=URI;X-ADDRESS=Thrive 21-23 Preston Street Liverpool Liverpool L1 6DP United Kingdom;X-APPLE-RADIUS=500;X-TITLE=21-23 Preston Street:geo:-2.9849363644176,53.408947259526
END:VEVENT
BEGIN:VEVENT
DTSTART;TZID=UTC:20250810T130000
DTEND;TZID=UTC:20250810T130000
DTSTAMP:20260425T233122
CREATED:20221018T182437Z
LAST-MODIFIED:20221018T182438Z
UID:10009787-1754830800-1754830800@stage-bemore.awtg.net
SUMMARY:REGENDA HOUSING SUPPORT
DESCRIPTION:
URL:https://stage-bemore.awtg.net/events/regenda-housing-support/2025-08-10/
LOCATION:Thrive\, 21-23 Preston Street\, Liverpool\, Liverpool\, L1 6DP\, United Kingdom
ATTACH;FMTTYPE=image/jpeg:https://stage-bemore.awtg.net/wp-content/uploads/2022/10/Thrive.jpg
GEO:53.408947259526;-2.9849363644176
X-APPLE-STRUCTURED-LOCATION;VALUE=URI;X-ADDRESS=Thrive 21-23 Preston Street Liverpool Liverpool L1 6DP United Kingdom;X-APPLE-RADIUS=500;X-TITLE=21-23 Preston Street:geo:-2.9849363644176,53.408947259526
END:VEVENT
BEGIN:VEVENT
DTSTART;TZID=UTC:20250810T130000
DTEND;TZID=UTC:20250810T130000
DTSTAMP:20260425T233122
CREATED:20221018T181508Z
LAST-MODIFIED:20221018T181509Z
UID:10007558-1754830800-1754830800@stage-bemore.awtg.net
SUMMARY:CV DROP IN
DESCRIPTION:
URL:https://stage-bemore.awtg.net/events/cv-drop-in/2025-08-10/
LOCATION:Thrive\, 21-23 Preston Street\, Liverpool\, Liverpool\, L1 6DP\, United Kingdom
ATTACH;FMTTYPE=image/jpeg:https://stage-bemore.awtg.net/wp-content/uploads/2022/10/Thrive.jpg
GEO:53.408947259526;-2.9849363644176
X-APPLE-STRUCTURED-LOCATION;VALUE=URI;X-ADDRESS=Thrive 21-23 Preston Street Liverpool Liverpool L1 6DP United Kingdom;X-APPLE-RADIUS=500;X-TITLE=21-23 Preston Street:geo:-2.9849363644176,53.408947259526
END:VEVENT
BEGIN:VEVENT
DTSTART;TZID=UTC:20250810T103000
DTEND;TZID=UTC:20250810T103000
DTSTAMP:20260425T233122
CREATED:20221018T181857Z
LAST-MODIFIED:20221018T181858Z
UID:10008711-1754821800-1754821800@stage-bemore.awtg.net
SUMMARY:TRAINING WITH THE LEARNING FOUNDRY
DESCRIPTION:
URL:https://stage-bemore.awtg.net/events/training-with-the-learning-foundry/2025-08-10/
LOCATION:Thrive\, 21-23 Preston Street\, Liverpool\, Liverpool\, L1 6DP\, United Kingdom
ATTACH;FMTTYPE=image/jpeg:https://stage-bemore.awtg.net/wp-content/uploads/2022/10/Thrive.jpg
GEO:53.408947259526;-2.9849363644176
X-APPLE-STRUCTURED-LOCATION;VALUE=URI;X-ADDRESS=Thrive 21-23 Preston Street Liverpool Liverpool L1 6DP United Kingdom;X-APPLE-RADIUS=500;X-TITLE=21-23 Preston Street:geo:-2.9849363644176,53.408947259526
END:VEVENT
BEGIN:VEVENT
DTSTART;TZID=UTC:20250810T103000
DTEND;TZID=UTC:20250810T103000
DTSTAMP:20260425T233122
CREATED:20221018T181702Z
LAST-MODIFIED:20221018T181703Z
UID:10007635-1754821800-1754821800@stage-bemore.awtg.net
SUMMARY:DBS EXPERIENCE PROGRAMME
DESCRIPTION:
URL:https://stage-bemore.awtg.net/events/dbs-experience-programme/2025-08-10/
LOCATION:Thrive\, 21-23 Preston Street\, Liverpool\, Liverpool\, L1 6DP\, United Kingdom
ATTACH;FMTTYPE=image/jpeg:https://stage-bemore.awtg.net/wp-content/uploads/2022/10/Thrive.jpg
GEO:53.408947259526;-2.9849363644176
X-APPLE-STRUCTURED-LOCATION;VALUE=URI;X-ADDRESS=Thrive 21-23 Preston Street Liverpool Liverpool L1 6DP United Kingdom;X-APPLE-RADIUS=500;X-TITLE=21-23 Preston Street:geo:-2.9849363644176,53.408947259526
END:VEVENT
BEGIN:VEVENT
DTSTART;TZID=UTC:20250809T130000
DTEND;TZID=UTC:20250809T130000
DTSTAMP:20260425T233122
CREATED:20221018T182437Z
LAST-MODIFIED:20221018T182438Z
UID:10009786-1754744400-1754744400@stage-bemore.awtg.net
SUMMARY:REGENDA HOUSING SUPPORT
DESCRIPTION:
URL:https://stage-bemore.awtg.net/events/regenda-housing-support/2025-08-09/
LOCATION:Thrive\, 21-23 Preston Street\, Liverpool\, Liverpool\, L1 6DP\, United Kingdom
ATTACH;FMTTYPE=image/jpeg:https://stage-bemore.awtg.net/wp-content/uploads/2022/10/Thrive.jpg
GEO:53.408947259526;-2.9849363644176
X-APPLE-STRUCTURED-LOCATION;VALUE=URI;X-ADDRESS=Thrive 21-23 Preston Street Liverpool Liverpool L1 6DP United Kingdom;X-APPLE-RADIUS=500;X-TITLE=21-23 Preston Street:geo:-2.9849363644176,53.408947259526
END:VEVENT
BEGIN:VEVENT
DTSTART;TZID=UTC:20250809T130000
DTEND;TZID=UTC:20250809T130000
DTSTAMP:20260425T233122
CREATED:20221018T181508Z
LAST-MODIFIED:20221018T181509Z
UID:10007557-1754744400-1754744400@stage-bemore.awtg.net
SUMMARY:CV DROP IN
DESCRIPTION:
URL:https://stage-bemore.awtg.net/events/cv-drop-in/2025-08-09/
LOCATION:Thrive\, 21-23 Preston Street\, Liverpool\, Liverpool\, L1 6DP\, United Kingdom
ATTACH;FMTTYPE=image/jpeg:https://stage-bemore.awtg.net/wp-content/uploads/2022/10/Thrive.jpg
GEO:53.408947259526;-2.9849363644176
X-APPLE-STRUCTURED-LOCATION;VALUE=URI;X-ADDRESS=Thrive 21-23 Preston Street Liverpool Liverpool L1 6DP United Kingdom;X-APPLE-RADIUS=500;X-TITLE=21-23 Preston Street:geo:-2.9849363644176,53.408947259526
END:VEVENT
BEGIN:VEVENT
DTSTART;TZID=UTC:20250809T103000
DTEND;TZID=UTC:20250809T103000
DTSTAMP:20260425T233122
CREATED:20221018T181857Z
LAST-MODIFIED:20221018T181858Z
UID:10008710-1754735400-1754735400@stage-bemore.awtg.net
SUMMARY:TRAINING WITH THE LEARNING FOUNDRY
DESCRIPTION:
URL:https://stage-bemore.awtg.net/events/training-with-the-learning-foundry/2025-08-09/
LOCATION:Thrive\, 21-23 Preston Street\, Liverpool\, Liverpool\, L1 6DP\, United Kingdom
ATTACH;FMTTYPE=image/jpeg:https://stage-bemore.awtg.net/wp-content/uploads/2022/10/Thrive.jpg
GEO:53.408947259526;-2.9849363644176
X-APPLE-STRUCTURED-LOCATION;VALUE=URI;X-ADDRESS=Thrive 21-23 Preston Street Liverpool Liverpool L1 6DP United Kingdom;X-APPLE-RADIUS=500;X-TITLE=21-23 Preston Street:geo:-2.9849363644176,53.408947259526
END:VEVENT
BEGIN:VEVENT
DTSTART;TZID=UTC:20250809T103000
DTEND;TZID=UTC:20250809T103000
DTSTAMP:20260425T233122
CREATED:20221018T181702Z
LAST-MODIFIED:20221018T181703Z
UID:10007634-1754735400-1754735400@stage-bemore.awtg.net
SUMMARY:DBS EXPERIENCE PROGRAMME
DESCRIPTION:
URL:https://stage-bemore.awtg.net/events/dbs-experience-programme/2025-08-09/
LOCATION:Thrive\, 21-23 Preston Street\, Liverpool\, Liverpool\, L1 6DP\, United Kingdom
ATTACH;FMTTYPE=image/jpeg:https://stage-bemore.awtg.net/wp-content/uploads/2022/10/Thrive.jpg
GEO:53.408947259526;-2.9849363644176
X-APPLE-STRUCTURED-LOCATION;VALUE=URI;X-ADDRESS=Thrive 21-23 Preston Street Liverpool Liverpool L1 6DP United Kingdom;X-APPLE-RADIUS=500;X-TITLE=21-23 Preston Street:geo:-2.9849363644176,53.408947259526
END:VEVENT
BEGIN:VEVENT
DTSTART;TZID=UTC:20250808T130000
DTEND;TZID=UTC:20250808T130000
DTSTAMP:20260425T233122
CREATED:20221018T182437Z
LAST-MODIFIED:20221018T182438Z
UID:10009785-1754658000-1754658000@stage-bemore.awtg.net
SUMMARY:REGENDA HOUSING SUPPORT
DESCRIPTION:
URL:https://stage-bemore.awtg.net/events/regenda-housing-support/2025-08-08/
LOCATION:Thrive\, 21-23 Preston Street\, Liverpool\, Liverpool\, L1 6DP\, United Kingdom
ATTACH;FMTTYPE=image/jpeg:https://stage-bemore.awtg.net/wp-content/uploads/2022/10/Thrive.jpg
GEO:53.408947259526;-2.9849363644176
X-APPLE-STRUCTURED-LOCATION;VALUE=URI;X-ADDRESS=Thrive 21-23 Preston Street Liverpool Liverpool L1 6DP United Kingdom;X-APPLE-RADIUS=500;X-TITLE=21-23 Preston Street:geo:-2.9849363644176,53.408947259526
END:VEVENT
BEGIN:VEVENT
DTSTART;TZID=UTC:20250808T130000
DTEND;TZID=UTC:20250808T130000
DTSTAMP:20260425T233122
CREATED:20221018T181508Z
LAST-MODIFIED:20221018T181509Z
UID:10007556-1754658000-1754658000@stage-bemore.awtg.net
SUMMARY:CV DROP IN
DESCRIPTION:
URL:https://stage-bemore.awtg.net/events/cv-drop-in/2025-08-08/
LOCATION:Thrive\, 21-23 Preston Street\, Liverpool\, Liverpool\, L1 6DP\, United Kingdom
ATTACH;FMTTYPE=image/jpeg:https://stage-bemore.awtg.net/wp-content/uploads/2022/10/Thrive.jpg
GEO:53.408947259526;-2.9849363644176
X-APPLE-STRUCTURED-LOCATION;VALUE=URI;X-ADDRESS=Thrive 21-23 Preston Street Liverpool Liverpool L1 6DP United Kingdom;X-APPLE-RADIUS=500;X-TITLE=21-23 Preston Street:geo:-2.9849363644176,53.408947259526
END:VEVENT
BEGIN:VEVENT
DTSTART;TZID=UTC:20250808T103000
DTEND;TZID=UTC:20250808T103000
DTSTAMP:20260425T233122
CREATED:20221018T181857Z
LAST-MODIFIED:20221018T181858Z
UID:10008709-1754649000-1754649000@stage-bemore.awtg.net
SUMMARY:TRAINING WITH THE LEARNING FOUNDRY
DESCRIPTION:
URL:https://stage-bemore.awtg.net/events/training-with-the-learning-foundry/2025-08-08/
LOCATION:Thrive\, 21-23 Preston Street\, Liverpool\, Liverpool\, L1 6DP\, United Kingdom
ATTACH;FMTTYPE=image/jpeg:https://stage-bemore.awtg.net/wp-content/uploads/2022/10/Thrive.jpg
GEO:53.408947259526;-2.9849363644176
X-APPLE-STRUCTURED-LOCATION;VALUE=URI;X-ADDRESS=Thrive 21-23 Preston Street Liverpool Liverpool L1 6DP United Kingdom;X-APPLE-RADIUS=500;X-TITLE=21-23 Preston Street:geo:-2.9849363644176,53.408947259526
END:VEVENT
BEGIN:VEVENT
DTSTART;TZID=UTC:20250808T103000
DTEND;TZID=UTC:20250808T103000
DTSTAMP:20260425T233122
CREATED:20221018T181702Z
LAST-MODIFIED:20221018T181703Z
UID:10007633-1754649000-1754649000@stage-bemore.awtg.net
SUMMARY:DBS EXPERIENCE PROGRAMME
DESCRIPTION:
URL:https://stage-bemore.awtg.net/events/dbs-experience-programme/2025-08-08/
LOCATION:Thrive\, 21-23 Preston Street\, Liverpool\, Liverpool\, L1 6DP\, United Kingdom
ATTACH;FMTTYPE=image/jpeg:https://stage-bemore.awtg.net/wp-content/uploads/2022/10/Thrive.jpg
GEO:53.408947259526;-2.9849363644176
X-APPLE-STRUCTURED-LOCATION;VALUE=URI;X-ADDRESS=Thrive 21-23 Preston Street Liverpool Liverpool L1 6DP United Kingdom;X-APPLE-RADIUS=500;X-TITLE=21-23 Preston Street:geo:-2.9849363644176,53.408947259526
END:VEVENT
BEGIN:VEVENT
DTSTART;TZID=UTC:20250807T130000
DTEND;TZID=UTC:20250807T130000
DTSTAMP:20260425T233122
CREATED:20221018T182437Z
LAST-MODIFIED:20221018T182438Z
UID:10009784-1754571600-1754571600@stage-bemore.awtg.net
SUMMARY:REGENDA HOUSING SUPPORT
DESCRIPTION:
URL:https://stage-bemore.awtg.net/events/regenda-housing-support/2025-08-07/
LOCATION:Thrive\, 21-23 Preston Street\, Liverpool\, Liverpool\, L1 6DP\, United Kingdom
ATTACH;FMTTYPE=image/jpeg:https://stage-bemore.awtg.net/wp-content/uploads/2022/10/Thrive.jpg
GEO:53.408947259526;-2.9849363644176
X-APPLE-STRUCTURED-LOCATION;VALUE=URI;X-ADDRESS=Thrive 21-23 Preston Street Liverpool Liverpool L1 6DP United Kingdom;X-APPLE-RADIUS=500;X-TITLE=21-23 Preston Street:geo:-2.9849363644176,53.408947259526
END:VEVENT
BEGIN:VEVENT
DTSTART;TZID=UTC:20250807T130000
DTEND;TZID=UTC:20250807T130000
DTSTAMP:20260425T233122
CREATED:20221018T181508Z
LAST-MODIFIED:20221018T181509Z
UID:10007555-1754571600-1754571600@stage-bemore.awtg.net
SUMMARY:CV DROP IN
DESCRIPTION:
URL:https://stage-bemore.awtg.net/events/cv-drop-in/2025-08-07/
LOCATION:Thrive\, 21-23 Preston Street\, Liverpool\, Liverpool\, L1 6DP\, United Kingdom
ATTACH;FMTTYPE=image/jpeg:https://stage-bemore.awtg.net/wp-content/uploads/2022/10/Thrive.jpg
GEO:53.408947259526;-2.9849363644176
X-APPLE-STRUCTURED-LOCATION;VALUE=URI;X-ADDRESS=Thrive 21-23 Preston Street Liverpool Liverpool L1 6DP United Kingdom;X-APPLE-RADIUS=500;X-TITLE=21-23 Preston Street:geo:-2.9849363644176,53.408947259526
END:VEVENT
BEGIN:VEVENT
DTSTART;TZID=UTC:20250807T103000
DTEND;TZID=UTC:20250807T103000
DTSTAMP:20260425T233122
CREATED:20221018T181857Z
LAST-MODIFIED:20221018T181858Z
UID:10008708-1754562600-1754562600@stage-bemore.awtg.net
SUMMARY:TRAINING WITH THE LEARNING FOUNDRY
DESCRIPTION:
URL:https://stage-bemore.awtg.net/events/training-with-the-learning-foundry/2025-08-07/
LOCATION:Thrive\, 21-23 Preston Street\, Liverpool\, Liverpool\, L1 6DP\, United Kingdom
ATTACH;FMTTYPE=image/jpeg:https://stage-bemore.awtg.net/wp-content/uploads/2022/10/Thrive.jpg
GEO:53.408947259526;-2.9849363644176
X-APPLE-STRUCTURED-LOCATION;VALUE=URI;X-ADDRESS=Thrive 21-23 Preston Street Liverpool Liverpool L1 6DP United Kingdom;X-APPLE-RADIUS=500;X-TITLE=21-23 Preston Street:geo:-2.9849363644176,53.408947259526
END:VEVENT
BEGIN:VEVENT
DTSTART;TZID=UTC:20250807T103000
DTEND;TZID=UTC:20250807T103000
DTSTAMP:20260425T233122
CREATED:20221018T181702Z
LAST-MODIFIED:20221018T181703Z
UID:10007632-1754562600-1754562600@stage-bemore.awtg.net
SUMMARY:DBS EXPERIENCE PROGRAMME
DESCRIPTION:
URL:https://stage-bemore.awtg.net/events/dbs-experience-programme/2025-08-07/
LOCATION:Thrive\, 21-23 Preston Street\, Liverpool\, Liverpool\, L1 6DP\, United Kingdom
ATTACH;FMTTYPE=image/jpeg:https://stage-bemore.awtg.net/wp-content/uploads/2022/10/Thrive.jpg
GEO:53.408947259526;-2.9849363644176
X-APPLE-STRUCTURED-LOCATION;VALUE=URI;X-ADDRESS=Thrive 21-23 Preston Street Liverpool Liverpool L1 6DP United Kingdom;X-APPLE-RADIUS=500;X-TITLE=21-23 Preston Street:geo:-2.9849363644176,53.408947259526
END:VEVENT
BEGIN:VEVENT
DTSTART;TZID=UTC:20250806T130000
DTEND;TZID=UTC:20250806T130000
DTSTAMP:20260425T233122
CREATED:20221018T182437Z
LAST-MODIFIED:20221018T182438Z
UID:10009783-1754485200-1754485200@stage-bemore.awtg.net
SUMMARY:REGENDA HOUSING SUPPORT
DESCRIPTION:
URL:https://stage-bemore.awtg.net/events/regenda-housing-support/2025-08-06/
LOCATION:Thrive\, 21-23 Preston Street\, Liverpool\, Liverpool\, L1 6DP\, United Kingdom
ATTACH;FMTTYPE=image/jpeg:https://stage-bemore.awtg.net/wp-content/uploads/2022/10/Thrive.jpg
GEO:53.408947259526;-2.9849363644176
X-APPLE-STRUCTURED-LOCATION;VALUE=URI;X-ADDRESS=Thrive 21-23 Preston Street Liverpool Liverpool L1 6DP United Kingdom;X-APPLE-RADIUS=500;X-TITLE=21-23 Preston Street:geo:-2.9849363644176,53.408947259526
END:VEVENT
BEGIN:VEVENT
DTSTART;TZID=UTC:20250806T130000
DTEND;TZID=UTC:20250806T130000
DTSTAMP:20260425T233122
CREATED:20221018T181508Z
LAST-MODIFIED:20221018T181509Z
UID:10007554-1754485200-1754485200@stage-bemore.awtg.net
SUMMARY:CV DROP IN
DESCRIPTION:
URL:https://stage-bemore.awtg.net/events/cv-drop-in/2025-08-06/
LOCATION:Thrive\, 21-23 Preston Street\, Liverpool\, Liverpool\, L1 6DP\, United Kingdom
ATTACH;FMTTYPE=image/jpeg:https://stage-bemore.awtg.net/wp-content/uploads/2022/10/Thrive.jpg
GEO:53.408947259526;-2.9849363644176
X-APPLE-STRUCTURED-LOCATION;VALUE=URI;X-ADDRESS=Thrive 21-23 Preston Street Liverpool Liverpool L1 6DP United Kingdom;X-APPLE-RADIUS=500;X-TITLE=21-23 Preston Street:geo:-2.9849363644176,53.408947259526
END:VEVENT
BEGIN:VEVENT
DTSTART;TZID=UTC:20250806T103000
DTEND;TZID=UTC:20250806T103000
DTSTAMP:20260425T233122
CREATED:20221018T181857Z
LAST-MODIFIED:20221018T181858Z
UID:10008707-1754476200-1754476200@stage-bemore.awtg.net
SUMMARY:TRAINING WITH THE LEARNING FOUNDRY
DESCRIPTION:
URL:https://stage-bemore.awtg.net/events/training-with-the-learning-foundry/2025-08-06/
LOCATION:Thrive\, 21-23 Preston Street\, Liverpool\, Liverpool\, L1 6DP\, United Kingdom
ATTACH;FMTTYPE=image/jpeg:https://stage-bemore.awtg.net/wp-content/uploads/2022/10/Thrive.jpg
GEO:53.408947259526;-2.9849363644176
X-APPLE-STRUCTURED-LOCATION;VALUE=URI;X-ADDRESS=Thrive 21-23 Preston Street Liverpool Liverpool L1 6DP United Kingdom;X-APPLE-RADIUS=500;X-TITLE=21-23 Preston Street:geo:-2.9849363644176,53.408947259526
END:VEVENT
BEGIN:VEVENT
DTSTART;TZID=UTC:20250806T103000
DTEND;TZID=UTC:20250806T103000
DTSTAMP:20260425T233122
CREATED:20221018T181702Z
LAST-MODIFIED:20221018T181703Z
UID:10007631-1754476200-1754476200@stage-bemore.awtg.net
SUMMARY:DBS EXPERIENCE PROGRAMME
DESCRIPTION:
URL:https://stage-bemore.awtg.net/events/dbs-experience-programme/2025-08-06/
LOCATION:Thrive\, 21-23 Preston Street\, Liverpool\, Liverpool\, L1 6DP\, United Kingdom
ATTACH;FMTTYPE=image/jpeg:https://stage-bemore.awtg.net/wp-content/uploads/2022/10/Thrive.jpg
GEO:53.408947259526;-2.9849363644176
X-APPLE-STRUCTURED-LOCATION;VALUE=URI;X-ADDRESS=Thrive 21-23 Preston Street Liverpool Liverpool L1 6DP United Kingdom;X-APPLE-RADIUS=500;X-TITLE=21-23 Preston Street:geo:-2.9849363644176,53.408947259526
END:VEVENT
BEGIN:VEVENT
DTSTART;TZID=UTC:20250805T130000
DTEND;TZID=UTC:20250805T130000
DTSTAMP:20260425T233122
CREATED:20221018T182437Z
LAST-MODIFIED:20221018T182438Z
UID:10009782-1754398800-1754398800@stage-bemore.awtg.net
SUMMARY:REGENDA HOUSING SUPPORT
DESCRIPTION:
URL:https://stage-bemore.awtg.net/events/regenda-housing-support/2025-08-05/
LOCATION:Thrive\, 21-23 Preston Street\, Liverpool\, Liverpool\, L1 6DP\, United Kingdom
ATTACH;FMTTYPE=image/jpeg:https://stage-bemore.awtg.net/wp-content/uploads/2022/10/Thrive.jpg
GEO:53.408947259526;-2.9849363644176
X-APPLE-STRUCTURED-LOCATION;VALUE=URI;X-ADDRESS=Thrive 21-23 Preston Street Liverpool Liverpool L1 6DP United Kingdom;X-APPLE-RADIUS=500;X-TITLE=21-23 Preston Street:geo:-2.9849363644176,53.408947259526
END:VEVENT
BEGIN:VEVENT
DTSTART;TZID=UTC:20250805T130000
DTEND;TZID=UTC:20250805T130000
DTSTAMP:20260425T233122
CREATED:20221018T181508Z
LAST-MODIFIED:20221018T181509Z
UID:10007553-1754398800-1754398800@stage-bemore.awtg.net
SUMMARY:CV DROP IN
DESCRIPTION:
URL:https://stage-bemore.awtg.net/events/cv-drop-in/2025-08-05/
LOCATION:Thrive\, 21-23 Preston Street\, Liverpool\, Liverpool\, L1 6DP\, United Kingdom
ATTACH;FMTTYPE=image/jpeg:https://stage-bemore.awtg.net/wp-content/uploads/2022/10/Thrive.jpg
GEO:53.408947259526;-2.9849363644176
X-APPLE-STRUCTURED-LOCATION;VALUE=URI;X-ADDRESS=Thrive 21-23 Preston Street Liverpool Liverpool L1 6DP United Kingdom;X-APPLE-RADIUS=500;X-TITLE=21-23 Preston Street:geo:-2.9849363644176,53.408947259526
END:VEVENT
BEGIN:VEVENT
DTSTART;TZID=UTC:20250805T103000
DTEND;TZID=UTC:20250805T103000
DTSTAMP:20260425T233122
CREATED:20221018T181857Z
LAST-MODIFIED:20221018T181858Z
UID:10008706-1754389800-1754389800@stage-bemore.awtg.net
SUMMARY:TRAINING WITH THE LEARNING FOUNDRY
DESCRIPTION:
URL:https://stage-bemore.awtg.net/events/training-with-the-learning-foundry/2025-08-05/
LOCATION:Thrive\, 21-23 Preston Street\, Liverpool\, Liverpool\, L1 6DP\, United Kingdom
ATTACH;FMTTYPE=image/jpeg:https://stage-bemore.awtg.net/wp-content/uploads/2022/10/Thrive.jpg
GEO:53.408947259526;-2.9849363644176
X-APPLE-STRUCTURED-LOCATION;VALUE=URI;X-ADDRESS=Thrive 21-23 Preston Street Liverpool Liverpool L1 6DP United Kingdom;X-APPLE-RADIUS=500;X-TITLE=21-23 Preston Street:geo:-2.9849363644176,53.408947259526
END:VEVENT
BEGIN:VEVENT
DTSTART;TZID=UTC:20250805T103000
DTEND;TZID=UTC:20250805T103000
DTSTAMP:20260425T233122
CREATED:20221018T181702Z
LAST-MODIFIED:20221018T181703Z
UID:10007630-1754389800-1754389800@stage-bemore.awtg.net
SUMMARY:DBS EXPERIENCE PROGRAMME
DESCRIPTION:
URL:https://stage-bemore.awtg.net/events/dbs-experience-programme/2025-08-05/
LOCATION:Thrive\, 21-23 Preston Street\, Liverpool\, Liverpool\, L1 6DP\, United Kingdom
ATTACH;FMTTYPE=image/jpeg:https://stage-bemore.awtg.net/wp-content/uploads/2022/10/Thrive.jpg
GEO:53.408947259526;-2.9849363644176
X-APPLE-STRUCTURED-LOCATION;VALUE=URI;X-ADDRESS=Thrive 21-23 Preston Street Liverpool Liverpool L1 6DP United Kingdom;X-APPLE-RADIUS=500;X-TITLE=21-23 Preston Street:geo:-2.9849363644176,53.408947259526
END:VEVENT
BEGIN:VEVENT
DTSTART;TZID=UTC:20250804T130000
DTEND;TZID=UTC:20250804T130000
DTSTAMP:20260425T233122
CREATED:20221018T182437Z
LAST-MODIFIED:20221018T182438Z
UID:10009781-1754312400-1754312400@stage-bemore.awtg.net
SUMMARY:REGENDA HOUSING SUPPORT
DESCRIPTION:
URL:https://stage-bemore.awtg.net/events/regenda-housing-support/2025-08-04/
LOCATION:Thrive\, 21-23 Preston Street\, Liverpool\, Liverpool\, L1 6DP\, United Kingdom
ATTACH;FMTTYPE=image/jpeg:https://stage-bemore.awtg.net/wp-content/uploads/2022/10/Thrive.jpg
GEO:53.408947259526;-2.9849363644176
X-APPLE-STRUCTURED-LOCATION;VALUE=URI;X-ADDRESS=Thrive 21-23 Preston Street Liverpool Liverpool L1 6DP United Kingdom;X-APPLE-RADIUS=500;X-TITLE=21-23 Preston Street:geo:-2.9849363644176,53.408947259526
END:VEVENT
BEGIN:VEVENT
DTSTART;TZID=UTC:20250804T130000
DTEND;TZID=UTC:20250804T130000
DTSTAMP:20260425T233122
CREATED:20221018T181508Z
LAST-MODIFIED:20221018T181509Z
UID:10007552-1754312400-1754312400@stage-bemore.awtg.net
SUMMARY:CV DROP IN
DESCRIPTION:
URL:https://stage-bemore.awtg.net/events/cv-drop-in/2025-08-04/
LOCATION:Thrive\, 21-23 Preston Street\, Liverpool\, Liverpool\, L1 6DP\, United Kingdom
ATTACH;FMTTYPE=image/jpeg:https://stage-bemore.awtg.net/wp-content/uploads/2022/10/Thrive.jpg
GEO:53.408947259526;-2.9849363644176
X-APPLE-STRUCTURED-LOCATION;VALUE=URI;X-ADDRESS=Thrive 21-23 Preston Street Liverpool Liverpool L1 6DP United Kingdom;X-APPLE-RADIUS=500;X-TITLE=21-23 Preston Street:geo:-2.9849363644176,53.408947259526
END:VEVENT
BEGIN:VEVENT
DTSTART;TZID=UTC:20250804T103000
DTEND;TZID=UTC:20250804T103000
DTSTAMP:20260425T233122
CREATED:20221018T181857Z
LAST-MODIFIED:20221018T181858Z
UID:10008705-1754303400-1754303400@stage-bemore.awtg.net
SUMMARY:TRAINING WITH THE LEARNING FOUNDRY
DESCRIPTION:
URL:https://stage-bemore.awtg.net/events/training-with-the-learning-foundry/2025-08-04/
LOCATION:Thrive\, 21-23 Preston Street\, Liverpool\, Liverpool\, L1 6DP\, United Kingdom
ATTACH;FMTTYPE=image/jpeg:https://stage-bemore.awtg.net/wp-content/uploads/2022/10/Thrive.jpg
GEO:53.408947259526;-2.9849363644176
X-APPLE-STRUCTURED-LOCATION;VALUE=URI;X-ADDRESS=Thrive 21-23 Preston Street Liverpool Liverpool L1 6DP United Kingdom;X-APPLE-RADIUS=500;X-TITLE=21-23 Preston Street:geo:-2.9849363644176,53.408947259526
END:VEVENT
END:VCALENDAR