



BEGIN:VCALENDAR
VERSION:2.0
PRODID:-//BeMore - ECPv6.15.1//NONSGML v1.0//EN
CALSCALE:GREGORIAN
METHOD:PUBLISH
X-ORIGINAL-URL:https://stage-bemore.awtg.net
X-WR-CALDESC:Events for BeMore
REFRESH-INTERVAL;VALUE=DURATION:PT1H
X-Robots-Tag:noindex
X-PUBLISHED-TTL:PT1H
BEGIN:VTIMEZONE
TZID:UTC
BEGIN:STANDARD
TZOFFSETFROM:+0000
TZOFFSETTO:+0000
TZNAME:UTC
DTSTART:20250101T000000
END:STANDARD
END:VTIMEZONE
BEGIN:VEVENT
DTSTART;TZID=UTC:20250714T090000
DTEND;TZID=UTC:20250714T170000
DTSTAMP:20260424T170916
CREATED:20250401T131143Z
LAST-MODIFIED:20250401T131147Z
UID:10011331-1752483600-1752512400@stage-bemore.awtg.net
SUMMARY:Lean Management and Fork Lift Truck Driving
DESCRIPTION:Duration: Starting 14th July – 3 weeks Monday to Friday (2 weeks classroom based and 1 week practical training) \n\n\n\nThis is a fully funded course for adults 16-24 living in the Liverpool City Region\, not in education\, employment of training.
URL:https://stage-bemore.awtg.net/events/lean-management-and-fork-lift-truck-driving-7/
LOCATION:The Learning Foundry\, The Watson Building\, 4 Renshaw Street\, Liverpool\, L12SA\, United Kingdom
ATTACH;FMTTYPE=image/png:https://stage-bemore.awtg.net/wp-content/uploads/2023/01/Screenshot-2023-01-17-at-11.32.34.png
ORGANIZER;CN="The Learning Foundry":MAILTO:info@thelearningfoundry.co.uk
END:VEVENT
BEGIN:VEVENT
DTSTART;TZID=UTC:20250630T090000
DTEND;TZID=UTC:20250630T170000
DTSTAMP:20260424T170916
CREATED:20250127T085008Z
LAST-MODIFIED:20250127T085010Z
UID:10011321-1751274000-1751302800@stage-bemore.awtg.net
SUMMARY:Lean Management and Fork Lift Truck Driving
DESCRIPTION:Duration: Starting 30th June \n\n\n\nThis is a fully funded course for adults 16-24 living in the Liverpool City Region\, not in education\, employment of training.
URL:https://stage-bemore.awtg.net/events/lean-management-and-fork-lift-truck-driving-2/
LOCATION:The Learning Foundry\, The Watson Building\, 4 Renshaw Street\, Liverpool\, L12SA\, United Kingdom
ATTACH;FMTTYPE=image/png:https://stage-bemore.awtg.net/wp-content/uploads/2023/01/Screenshot-2023-01-17-at-11.32.34.png
ORGANIZER;CN="The Learning Foundry":MAILTO:info@thelearningfoundry.co.uk
END:VEVENT
BEGIN:VEVENT
DTSTART;TZID=UTC:20250623T090000
DTEND;TZID=UTC:20250623T170000
DTSTAMP:20260424T170916
CREATED:20250401T131129Z
LAST-MODIFIED:20250401T131131Z
UID:10011330-1750669200-1750698000@stage-bemore.awtg.net
SUMMARY:Lean Management and Fork Lift Truck Driving
DESCRIPTION:Duration: Starting 23rd June – 3 weeks Monday to Friday (2 weeks classroom based and 1 week practical training) \n\n\n\nThis is a fully funded course for adults 16-24 living in the Liverpool City Region\, not in education\, employment of training.
URL:https://stage-bemore.awtg.net/events/lean-management-and-fork-lift-truck-driving-6/
LOCATION:The Learning Foundry\, The Watson Building\, 4 Renshaw Street\, Liverpool\, L12SA\, United Kingdom
ATTACH;FMTTYPE=image/png:https://stage-bemore.awtg.net/wp-content/uploads/2023/01/Screenshot-2023-01-17-at-11.32.34.png
ORGANIZER;CN="The Learning Foundry":MAILTO:info@thelearningfoundry.co.uk
END:VEVENT
END:VCALENDAR