



BEGIN:VCALENDAR
VERSION:2.0
PRODID:-//BeMore - ECPv6.15.1//NONSGML v1.0//EN
CALSCALE:GREGORIAN
METHOD:PUBLISH
X-ORIGINAL-URL:https://stage-bemore.awtg.net
X-WR-CALDESC:Events for BeMore
REFRESH-INTERVAL;VALUE=DURATION:PT1H
X-Robots-Tag:noindex
X-PUBLISHED-TTL:PT1H
BEGIN:VTIMEZONE
TZID:UTC
BEGIN:STANDARD
TZOFFSETFROM:+0000
TZOFFSETTO:+0000
TZNAME:UTC
DTSTART:20240101T000000
END:STANDARD
END:VTIMEZONE
BEGIN:VEVENT
DTSTART;TZID=UTC:20250122T130000
DTEND;TZID=UTC:20250122T170000
DTSTAMP:20260425T024657
CREATED:20221018T175015Z
LAST-MODIFIED:20231218T144607Z
UID:10005336-1737550800-1737565200@stage-bemore.awtg.net
SUMMARY:WEDNESDAY AFTERNOONS WITH THE HUB
DESCRIPTION:Personal skills development programme for a neurodiverse cohort of 15 young people. Activities include – CV building\, employer sessions\, woodland walk and much more!
URL:https://stage-bemore.awtg.net/events/wednesday-afternoons-with-the-hub-2/2025-01-22/
LOCATION:Merseyside Youth Association\, 65-67 Hanover Street\, Liverpool\, Liverpool\, L1 3DY\, United Kingdom
ATTACH;FMTTYPE=image/jpeg:https://stage-bemore.awtg.net/wp-content/uploads/2022/10/Merseyside-Youth-Association.jpg
GEO:53.404306319392;-2.9825169067472
X-APPLE-STRUCTURED-LOCATION;VALUE=URI;X-ADDRESS=Merseyside Youth Association 65-67 Hanover Street Liverpool Liverpool L1 3DY United Kingdom;X-APPLE-RADIUS=500;X-TITLE=65-67 Hanover Street:geo:-2.9825169067472,53.404306319392
END:VEVENT
BEGIN:VEVENT
DTSTART;TZID=UTC:20250122T130000
DTEND;TZID=UTC:20250122T170000
DTSTAMP:20260425T024657
CREATED:20221018T172632Z
LAST-MODIFIED:20221018T180221Z
UID:10005491-1737550800-1737565200@stage-bemore.awtg.net
SUMMARY:DROP IN SESSIONS
DESCRIPTION:DWP Work Coach available to support with Universal Credit claims.
URL:https://stage-bemore.awtg.net/events/drop-in-sessions/2025-01-22/
LOCATION:Merseyside Youth Association\, 65-67 Hanover Street\, Liverpool\, Liverpool\, L1 3DY\, United Kingdom
ATTACH;FMTTYPE=image/png:https://stage-bemore.awtg.net/wp-content/uploads/2022/10/stock-event.png
GEO:53.404306319392;-2.9825169067472
X-APPLE-STRUCTURED-LOCATION;VALUE=URI;X-ADDRESS=Merseyside Youth Association 65-67 Hanover Street Liverpool Liverpool L1 3DY United Kingdom;X-APPLE-RADIUS=500;X-TITLE=65-67 Hanover Street:geo:-2.9825169067472,53.404306319392
END:VEVENT
BEGIN:VEVENT
DTSTART;TZID=UTC:20250117T000000
DTEND;TZID=UTC:20250117T235959
DTSTAMP:20260425T024657
CREATED:20221018T172012Z
LAST-MODIFIED:20221018T180345Z
UID:10005191-1737072000-1737158399@stage-bemore.awtg.net
SUMMARY:CV SUPPORT
DESCRIPTION:Seetec CV Advisor attending Hub
URL:https://stage-bemore.awtg.net/events/cv-support/2025-01-17/
LOCATION:Merseyside Youth Association\, 65-67 Hanover Street\, Liverpool\, Liverpool\, L1 3DY\, United Kingdom
ATTACH;FMTTYPE=image/png:https://stage-bemore.awtg.net/wp-content/uploads/2022/10/stock-event.png
GEO:53.404306319392;-2.9825169067472
X-APPLE-STRUCTURED-LOCATION;VALUE=URI;X-ADDRESS=Merseyside Youth Association 65-67 Hanover Street Liverpool Liverpool L1 3DY United Kingdom;X-APPLE-RADIUS=500;X-TITLE=65-67 Hanover Street:geo:-2.9825169067472,53.404306319392
END:VEVENT
BEGIN:VEVENT
DTSTART;TZID=UTC:20250115T130000
DTEND;TZID=UTC:20250115T170000
DTSTAMP:20260425T024657
CREATED:20221018T175015Z
LAST-MODIFIED:20231218T144607Z
UID:10005335-1736946000-1736960400@stage-bemore.awtg.net
SUMMARY:WEDNESDAY AFTERNOONS WITH THE HUB
DESCRIPTION:Personal skills development programme for a neurodiverse cohort of 15 young people. Activities include – CV building\, employer sessions\, woodland walk and much more!
URL:https://stage-bemore.awtg.net/events/wednesday-afternoons-with-the-hub-2/2025-01-15/
LOCATION:Merseyside Youth Association\, 65-67 Hanover Street\, Liverpool\, Liverpool\, L1 3DY\, United Kingdom
ATTACH;FMTTYPE=image/jpeg:https://stage-bemore.awtg.net/wp-content/uploads/2022/10/Merseyside-Youth-Association.jpg
GEO:53.404306319392;-2.9825169067472
X-APPLE-STRUCTURED-LOCATION;VALUE=URI;X-ADDRESS=Merseyside Youth Association 65-67 Hanover Street Liverpool Liverpool L1 3DY United Kingdom;X-APPLE-RADIUS=500;X-TITLE=65-67 Hanover Street:geo:-2.9825169067472,53.404306319392
END:VEVENT
BEGIN:VEVENT
DTSTART;TZID=UTC:20250115T130000
DTEND;TZID=UTC:20250115T170000
DTSTAMP:20260425T024657
CREATED:20221018T172632Z
LAST-MODIFIED:20221018T180221Z
UID:10005490-1736946000-1736960400@stage-bemore.awtg.net
SUMMARY:DROP IN SESSIONS
DESCRIPTION:DWP Work Coach available to support with Universal Credit claims.
URL:https://stage-bemore.awtg.net/events/drop-in-sessions/2025-01-15/
LOCATION:Merseyside Youth Association\, 65-67 Hanover Street\, Liverpool\, Liverpool\, L1 3DY\, United Kingdom
ATTACH;FMTTYPE=image/png:https://stage-bemore.awtg.net/wp-content/uploads/2022/10/stock-event.png
GEO:53.404306319392;-2.9825169067472
X-APPLE-STRUCTURED-LOCATION;VALUE=URI;X-ADDRESS=Merseyside Youth Association 65-67 Hanover Street Liverpool Liverpool L1 3DY United Kingdom;X-APPLE-RADIUS=500;X-TITLE=65-67 Hanover Street:geo:-2.9825169067472,53.404306319392
END:VEVENT
BEGIN:VEVENT
DTSTART;TZID=UTC:20250110T000000
DTEND;TZID=UTC:20250110T235959
DTSTAMP:20260425T024657
CREATED:20221018T172012Z
LAST-MODIFIED:20221018T180345Z
UID:10005190-1736467200-1736553599@stage-bemore.awtg.net
SUMMARY:CV SUPPORT
DESCRIPTION:Seetec CV Advisor attending Hub
URL:https://stage-bemore.awtg.net/events/cv-support/2025-01-10/
LOCATION:Merseyside Youth Association\, 65-67 Hanover Street\, Liverpool\, Liverpool\, L1 3DY\, United Kingdom
ATTACH;FMTTYPE=image/png:https://stage-bemore.awtg.net/wp-content/uploads/2022/10/stock-event.png
GEO:53.404306319392;-2.9825169067472
X-APPLE-STRUCTURED-LOCATION;VALUE=URI;X-ADDRESS=Merseyside Youth Association 65-67 Hanover Street Liverpool Liverpool L1 3DY United Kingdom;X-APPLE-RADIUS=500;X-TITLE=65-67 Hanover Street:geo:-2.9825169067472,53.404306319392
END:VEVENT
BEGIN:VEVENT
DTSTART;TZID=UTC:20250108T130000
DTEND;TZID=UTC:20250108T170000
DTSTAMP:20260425T024657
CREATED:20221018T175015Z
LAST-MODIFIED:20231218T144607Z
UID:10005334-1736341200-1736355600@stage-bemore.awtg.net
SUMMARY:WEDNESDAY AFTERNOONS WITH THE HUB
DESCRIPTION:Personal skills development programme for a neurodiverse cohort of 15 young people. Activities include – CV building\, employer sessions\, woodland walk and much more!
URL:https://stage-bemore.awtg.net/events/wednesday-afternoons-with-the-hub-2/2025-01-08/
LOCATION:Merseyside Youth Association\, 65-67 Hanover Street\, Liverpool\, Liverpool\, L1 3DY\, United Kingdom
ATTACH;FMTTYPE=image/jpeg:https://stage-bemore.awtg.net/wp-content/uploads/2022/10/Merseyside-Youth-Association.jpg
GEO:53.404306319392;-2.9825169067472
X-APPLE-STRUCTURED-LOCATION;VALUE=URI;X-ADDRESS=Merseyside Youth Association 65-67 Hanover Street Liverpool Liverpool L1 3DY United Kingdom;X-APPLE-RADIUS=500;X-TITLE=65-67 Hanover Street:geo:-2.9825169067472,53.404306319392
END:VEVENT
BEGIN:VEVENT
DTSTART;TZID=UTC:20250108T130000
DTEND;TZID=UTC:20250108T170000
DTSTAMP:20260425T024657
CREATED:20221018T172632Z
LAST-MODIFIED:20221018T180221Z
UID:10005489-1736341200-1736355600@stage-bemore.awtg.net
SUMMARY:DROP IN SESSIONS
DESCRIPTION:DWP Work Coach available to support with Universal Credit claims.
URL:https://stage-bemore.awtg.net/events/drop-in-sessions/2025-01-08/
LOCATION:Merseyside Youth Association\, 65-67 Hanover Street\, Liverpool\, Liverpool\, L1 3DY\, United Kingdom
ATTACH;FMTTYPE=image/png:https://stage-bemore.awtg.net/wp-content/uploads/2022/10/stock-event.png
GEO:53.404306319392;-2.9825169067472
X-APPLE-STRUCTURED-LOCATION;VALUE=URI;X-ADDRESS=Merseyside Youth Association 65-67 Hanover Street Liverpool Liverpool L1 3DY United Kingdom;X-APPLE-RADIUS=500;X-TITLE=65-67 Hanover Street:geo:-2.9825169067472,53.404306319392
END:VEVENT
BEGIN:VEVENT
DTSTART;TZID=UTC:20250103T000000
DTEND;TZID=UTC:20250103T235959
DTSTAMP:20260425T024657
CREATED:20221018T172012Z
LAST-MODIFIED:20221018T180345Z
UID:10005189-1735862400-1735948799@stage-bemore.awtg.net
SUMMARY:CV SUPPORT
DESCRIPTION:Seetec CV Advisor attending Hub
URL:https://stage-bemore.awtg.net/events/cv-support/2025-01-03/
LOCATION:Merseyside Youth Association\, 65-67 Hanover Street\, Liverpool\, Liverpool\, L1 3DY\, United Kingdom
ATTACH;FMTTYPE=image/png:https://stage-bemore.awtg.net/wp-content/uploads/2022/10/stock-event.png
GEO:53.404306319392;-2.9825169067472
X-APPLE-STRUCTURED-LOCATION;VALUE=URI;X-ADDRESS=Merseyside Youth Association 65-67 Hanover Street Liverpool Liverpool L1 3DY United Kingdom;X-APPLE-RADIUS=500;X-TITLE=65-67 Hanover Street:geo:-2.9825169067472,53.404306319392
END:VEVENT
BEGIN:VEVENT
DTSTART;TZID=UTC:20250101T130000
DTEND;TZID=UTC:20250101T170000
DTSTAMP:20260425T024657
CREATED:20221018T175015Z
LAST-MODIFIED:20231218T144607Z
UID:10005333-1735736400-1735750800@stage-bemore.awtg.net
SUMMARY:WEDNESDAY AFTERNOONS WITH THE HUB
DESCRIPTION:Personal skills development programme for a neurodiverse cohort of 15 young people. Activities include – CV building\, employer sessions\, woodland walk and much more!
URL:https://stage-bemore.awtg.net/events/wednesday-afternoons-with-the-hub-2/2025-01-01/
LOCATION:Merseyside Youth Association\, 65-67 Hanover Street\, Liverpool\, Liverpool\, L1 3DY\, United Kingdom
ATTACH;FMTTYPE=image/jpeg:https://stage-bemore.awtg.net/wp-content/uploads/2022/10/Merseyside-Youth-Association.jpg
GEO:53.404306319392;-2.9825169067472
X-APPLE-STRUCTURED-LOCATION;VALUE=URI;X-ADDRESS=Merseyside Youth Association 65-67 Hanover Street Liverpool Liverpool L1 3DY United Kingdom;X-APPLE-RADIUS=500;X-TITLE=65-67 Hanover Street:geo:-2.9825169067472,53.404306319392
END:VEVENT
BEGIN:VEVENT
DTSTART;TZID=UTC:20250101T130000
DTEND;TZID=UTC:20250101T170000
DTSTAMP:20260425T024657
CREATED:20221018T172632Z
LAST-MODIFIED:20221018T180221Z
UID:10005488-1735736400-1735750800@stage-bemore.awtg.net
SUMMARY:DROP IN SESSIONS
DESCRIPTION:DWP Work Coach available to support with Universal Credit claims.
URL:https://stage-bemore.awtg.net/events/drop-in-sessions/2025-01-01/
LOCATION:Merseyside Youth Association\, 65-67 Hanover Street\, Liverpool\, Liverpool\, L1 3DY\, United Kingdom
ATTACH;FMTTYPE=image/png:https://stage-bemore.awtg.net/wp-content/uploads/2022/10/stock-event.png
GEO:53.404306319392;-2.9825169067472
X-APPLE-STRUCTURED-LOCATION;VALUE=URI;X-ADDRESS=Merseyside Youth Association 65-67 Hanover Street Liverpool Liverpool L1 3DY United Kingdom;X-APPLE-RADIUS=500;X-TITLE=65-67 Hanover Street:geo:-2.9825169067472,53.404306319392
END:VEVENT
BEGIN:VEVENT
DTSTART;TZID=UTC:20241227T000000
DTEND;TZID=UTC:20241227T235959
DTSTAMP:20260425T024657
CREATED:20221018T172012Z
LAST-MODIFIED:20221018T180345Z
UID:10005188-1735257600-1735343999@stage-bemore.awtg.net
SUMMARY:CV SUPPORT
DESCRIPTION:Seetec CV Advisor attending Hub
URL:https://stage-bemore.awtg.net/events/cv-support/2024-12-27/
LOCATION:Merseyside Youth Association\, 65-67 Hanover Street\, Liverpool\, Liverpool\, L1 3DY\, United Kingdom
ATTACH;FMTTYPE=image/png:https://stage-bemore.awtg.net/wp-content/uploads/2022/10/stock-event.png
GEO:53.404306319392;-2.9825169067472
X-APPLE-STRUCTURED-LOCATION;VALUE=URI;X-ADDRESS=Merseyside Youth Association 65-67 Hanover Street Liverpool Liverpool L1 3DY United Kingdom;X-APPLE-RADIUS=500;X-TITLE=65-67 Hanover Street:geo:-2.9825169067472,53.404306319392
END:VEVENT
BEGIN:VEVENT
DTSTART;TZID=UTC:20241225T130000
DTEND;TZID=UTC:20241225T170000
DTSTAMP:20260425T024657
CREATED:20221018T175015Z
LAST-MODIFIED:20231218T144607Z
UID:10005332-1735131600-1735146000@stage-bemore.awtg.net
SUMMARY:WEDNESDAY AFTERNOONS WITH THE HUB
DESCRIPTION:Personal skills development programme for a neurodiverse cohort of 15 young people. Activities include – CV building\, employer sessions\, woodland walk and much more!
URL:https://stage-bemore.awtg.net/events/wednesday-afternoons-with-the-hub-2/2024-12-25/
LOCATION:Merseyside Youth Association\, 65-67 Hanover Street\, Liverpool\, Liverpool\, L1 3DY\, United Kingdom
ATTACH;FMTTYPE=image/jpeg:https://stage-bemore.awtg.net/wp-content/uploads/2022/10/Merseyside-Youth-Association.jpg
GEO:53.404306319392;-2.9825169067472
X-APPLE-STRUCTURED-LOCATION;VALUE=URI;X-ADDRESS=Merseyside Youth Association 65-67 Hanover Street Liverpool Liverpool L1 3DY United Kingdom;X-APPLE-RADIUS=500;X-TITLE=65-67 Hanover Street:geo:-2.9825169067472,53.404306319392
END:VEVENT
BEGIN:VEVENT
DTSTART;TZID=UTC:20241225T130000
DTEND;TZID=UTC:20241225T170000
DTSTAMP:20260425T024657
CREATED:20221018T172632Z
LAST-MODIFIED:20221018T180221Z
UID:10005487-1735131600-1735146000@stage-bemore.awtg.net
SUMMARY:DROP IN SESSIONS
DESCRIPTION:DWP Work Coach available to support with Universal Credit claims.
URL:https://stage-bemore.awtg.net/events/drop-in-sessions/2024-12-25/
LOCATION:Merseyside Youth Association\, 65-67 Hanover Street\, Liverpool\, Liverpool\, L1 3DY\, United Kingdom
ATTACH;FMTTYPE=image/png:https://stage-bemore.awtg.net/wp-content/uploads/2022/10/stock-event.png
GEO:53.404306319392;-2.9825169067472
X-APPLE-STRUCTURED-LOCATION;VALUE=URI;X-ADDRESS=Merseyside Youth Association 65-67 Hanover Street Liverpool Liverpool L1 3DY United Kingdom;X-APPLE-RADIUS=500;X-TITLE=65-67 Hanover Street:geo:-2.9825169067472,53.404306319392
END:VEVENT
BEGIN:VEVENT
DTSTART;TZID=UTC:20241220T000000
DTEND;TZID=UTC:20241220T235959
DTSTAMP:20260425T024657
CREATED:20221018T172012Z
LAST-MODIFIED:20221018T180345Z
UID:10005187-1734652800-1734739199@stage-bemore.awtg.net
SUMMARY:CV SUPPORT
DESCRIPTION:Seetec CV Advisor attending Hub
URL:https://stage-bemore.awtg.net/events/cv-support/2024-12-20/
LOCATION:Merseyside Youth Association\, 65-67 Hanover Street\, Liverpool\, Liverpool\, L1 3DY\, United Kingdom
ATTACH;FMTTYPE=image/png:https://stage-bemore.awtg.net/wp-content/uploads/2022/10/stock-event.png
GEO:53.404306319392;-2.9825169067472
X-APPLE-STRUCTURED-LOCATION;VALUE=URI;X-ADDRESS=Merseyside Youth Association 65-67 Hanover Street Liverpool Liverpool L1 3DY United Kingdom;X-APPLE-RADIUS=500;X-TITLE=65-67 Hanover Street:geo:-2.9825169067472,53.404306319392
END:VEVENT
BEGIN:VEVENT
DTSTART;TZID=UTC:20241218T130000
DTEND;TZID=UTC:20241218T170000
DTSTAMP:20260425T024657
CREATED:20221018T175015Z
LAST-MODIFIED:20231218T144607Z
UID:10005331-1734526800-1734541200@stage-bemore.awtg.net
SUMMARY:WEDNESDAY AFTERNOONS WITH THE HUB
DESCRIPTION:Personal skills development programme for a neurodiverse cohort of 15 young people. Activities include – CV building\, employer sessions\, woodland walk and much more!
URL:https://stage-bemore.awtg.net/events/wednesday-afternoons-with-the-hub-2/2024-12-18/
LOCATION:Merseyside Youth Association\, 65-67 Hanover Street\, Liverpool\, Liverpool\, L1 3DY\, United Kingdom
ATTACH;FMTTYPE=image/jpeg:https://stage-bemore.awtg.net/wp-content/uploads/2022/10/Merseyside-Youth-Association.jpg
GEO:53.404306319392;-2.9825169067472
X-APPLE-STRUCTURED-LOCATION;VALUE=URI;X-ADDRESS=Merseyside Youth Association 65-67 Hanover Street Liverpool Liverpool L1 3DY United Kingdom;X-APPLE-RADIUS=500;X-TITLE=65-67 Hanover Street:geo:-2.9825169067472,53.404306319392
END:VEVENT
BEGIN:VEVENT
DTSTART;TZID=UTC:20241218T130000
DTEND;TZID=UTC:20241218T170000
DTSTAMP:20260425T024657
CREATED:20221018T172632Z
LAST-MODIFIED:20221018T180221Z
UID:10005486-1734526800-1734541200@stage-bemore.awtg.net
SUMMARY:DROP IN SESSIONS
DESCRIPTION:DWP Work Coach available to support with Universal Credit claims.
URL:https://stage-bemore.awtg.net/events/drop-in-sessions/2024-12-18/
LOCATION:Merseyside Youth Association\, 65-67 Hanover Street\, Liverpool\, Liverpool\, L1 3DY\, United Kingdom
ATTACH;FMTTYPE=image/png:https://stage-bemore.awtg.net/wp-content/uploads/2022/10/stock-event.png
GEO:53.404306319392;-2.9825169067472
X-APPLE-STRUCTURED-LOCATION;VALUE=URI;X-ADDRESS=Merseyside Youth Association 65-67 Hanover Street Liverpool Liverpool L1 3DY United Kingdom;X-APPLE-RADIUS=500;X-TITLE=65-67 Hanover Street:geo:-2.9825169067472,53.404306319392
END:VEVENT
BEGIN:VEVENT
DTSTART;TZID=UTC:20241213T000000
DTEND;TZID=UTC:20241213T235959
DTSTAMP:20260425T024657
CREATED:20221018T172012Z
LAST-MODIFIED:20221018T180345Z
UID:10005186-1734048000-1734134399@stage-bemore.awtg.net
SUMMARY:CV SUPPORT
DESCRIPTION:Seetec CV Advisor attending Hub
URL:https://stage-bemore.awtg.net/events/cv-support/2024-12-13/
LOCATION:Merseyside Youth Association\, 65-67 Hanover Street\, Liverpool\, Liverpool\, L1 3DY\, United Kingdom
ATTACH;FMTTYPE=image/png:https://stage-bemore.awtg.net/wp-content/uploads/2022/10/stock-event.png
GEO:53.404306319392;-2.9825169067472
X-APPLE-STRUCTURED-LOCATION;VALUE=URI;X-ADDRESS=Merseyside Youth Association 65-67 Hanover Street Liverpool Liverpool L1 3DY United Kingdom;X-APPLE-RADIUS=500;X-TITLE=65-67 Hanover Street:geo:-2.9825169067472,53.404306319392
END:VEVENT
BEGIN:VEVENT
DTSTART;TZID=UTC:20241211T130000
DTEND;TZID=UTC:20241211T170000
DTSTAMP:20260425T024658
CREATED:20221018T175015Z
LAST-MODIFIED:20231218T144607Z
UID:10005330-1733922000-1733936400@stage-bemore.awtg.net
SUMMARY:WEDNESDAY AFTERNOONS WITH THE HUB
DESCRIPTION:Personal skills development programme for a neurodiverse cohort of 15 young people. Activities include – CV building\, employer sessions\, woodland walk and much more!
URL:https://stage-bemore.awtg.net/events/wednesday-afternoons-with-the-hub-2/2024-12-11/
LOCATION:Merseyside Youth Association\, 65-67 Hanover Street\, Liverpool\, Liverpool\, L1 3DY\, United Kingdom
ATTACH;FMTTYPE=image/jpeg:https://stage-bemore.awtg.net/wp-content/uploads/2022/10/Merseyside-Youth-Association.jpg
GEO:53.404306319392;-2.9825169067472
X-APPLE-STRUCTURED-LOCATION;VALUE=URI;X-ADDRESS=Merseyside Youth Association 65-67 Hanover Street Liverpool Liverpool L1 3DY United Kingdom;X-APPLE-RADIUS=500;X-TITLE=65-67 Hanover Street:geo:-2.9825169067472,53.404306319392
END:VEVENT
BEGIN:VEVENT
DTSTART;TZID=UTC:20241211T130000
DTEND;TZID=UTC:20241211T170000
DTSTAMP:20260425T024658
CREATED:20221018T172632Z
LAST-MODIFIED:20221018T180221Z
UID:10005485-1733922000-1733936400@stage-bemore.awtg.net
SUMMARY:DROP IN SESSIONS
DESCRIPTION:DWP Work Coach available to support with Universal Credit claims.
URL:https://stage-bemore.awtg.net/events/drop-in-sessions/2024-12-11/
LOCATION:Merseyside Youth Association\, 65-67 Hanover Street\, Liverpool\, Liverpool\, L1 3DY\, United Kingdom
ATTACH;FMTTYPE=image/png:https://stage-bemore.awtg.net/wp-content/uploads/2022/10/stock-event.png
GEO:53.404306319392;-2.9825169067472
X-APPLE-STRUCTURED-LOCATION;VALUE=URI;X-ADDRESS=Merseyside Youth Association 65-67 Hanover Street Liverpool Liverpool L1 3DY United Kingdom;X-APPLE-RADIUS=500;X-TITLE=65-67 Hanover Street:geo:-2.9825169067472,53.404306319392
END:VEVENT
BEGIN:VEVENT
DTSTART;TZID=UTC:20241206T000000
DTEND;TZID=UTC:20241206T235959
DTSTAMP:20260425T024658
CREATED:20221018T172012Z
LAST-MODIFIED:20221018T180345Z
UID:10005185-1733443200-1733529599@stage-bemore.awtg.net
SUMMARY:CV SUPPORT
DESCRIPTION:Seetec CV Advisor attending Hub
URL:https://stage-bemore.awtg.net/events/cv-support/2024-12-06/
LOCATION:Merseyside Youth Association\, 65-67 Hanover Street\, Liverpool\, Liverpool\, L1 3DY\, United Kingdom
ATTACH;FMTTYPE=image/png:https://stage-bemore.awtg.net/wp-content/uploads/2022/10/stock-event.png
GEO:53.404306319392;-2.9825169067472
X-APPLE-STRUCTURED-LOCATION;VALUE=URI;X-ADDRESS=Merseyside Youth Association 65-67 Hanover Street Liverpool Liverpool L1 3DY United Kingdom;X-APPLE-RADIUS=500;X-TITLE=65-67 Hanover Street:geo:-2.9825169067472,53.404306319392
END:VEVENT
BEGIN:VEVENT
DTSTART;TZID=UTC:20241204T130000
DTEND;TZID=UTC:20241204T170000
DTSTAMP:20260425T024658
CREATED:20221018T175015Z
LAST-MODIFIED:20231218T144607Z
UID:10005329-1733317200-1733331600@stage-bemore.awtg.net
SUMMARY:WEDNESDAY AFTERNOONS WITH THE HUB
DESCRIPTION:Personal skills development programme for a neurodiverse cohort of 15 young people. Activities include – CV building\, employer sessions\, woodland walk and much more!
URL:https://stage-bemore.awtg.net/events/wednesday-afternoons-with-the-hub-2/2024-12-04/
LOCATION:Merseyside Youth Association\, 65-67 Hanover Street\, Liverpool\, Liverpool\, L1 3DY\, United Kingdom
ATTACH;FMTTYPE=image/jpeg:https://stage-bemore.awtg.net/wp-content/uploads/2022/10/Merseyside-Youth-Association.jpg
GEO:53.404306319392;-2.9825169067472
X-APPLE-STRUCTURED-LOCATION;VALUE=URI;X-ADDRESS=Merseyside Youth Association 65-67 Hanover Street Liverpool Liverpool L1 3DY United Kingdom;X-APPLE-RADIUS=500;X-TITLE=65-67 Hanover Street:geo:-2.9825169067472,53.404306319392
END:VEVENT
BEGIN:VEVENT
DTSTART;TZID=UTC:20241204T130000
DTEND;TZID=UTC:20241204T170000
DTSTAMP:20260425T024658
CREATED:20221018T172632Z
LAST-MODIFIED:20221018T180221Z
UID:10005484-1733317200-1733331600@stage-bemore.awtg.net
SUMMARY:DROP IN SESSIONS
DESCRIPTION:DWP Work Coach available to support with Universal Credit claims.
URL:https://stage-bemore.awtg.net/events/drop-in-sessions/2024-12-04/
LOCATION:Merseyside Youth Association\, 65-67 Hanover Street\, Liverpool\, Liverpool\, L1 3DY\, United Kingdom
ATTACH;FMTTYPE=image/png:https://stage-bemore.awtg.net/wp-content/uploads/2022/10/stock-event.png
GEO:53.404306319392;-2.9825169067472
X-APPLE-STRUCTURED-LOCATION;VALUE=URI;X-ADDRESS=Merseyside Youth Association 65-67 Hanover Street Liverpool Liverpool L1 3DY United Kingdom;X-APPLE-RADIUS=500;X-TITLE=65-67 Hanover Street:geo:-2.9825169067472,53.404306319392
END:VEVENT
BEGIN:VEVENT
DTSTART;TZID=UTC:20241129T000000
DTEND;TZID=UTC:20241129T235959
DTSTAMP:20260425T024658
CREATED:20221018T172012Z
LAST-MODIFIED:20221018T180345Z
UID:10005184-1732838400-1732924799@stage-bemore.awtg.net
SUMMARY:CV SUPPORT
DESCRIPTION:Seetec CV Advisor attending Hub
URL:https://stage-bemore.awtg.net/events/cv-support/2024-11-29/
LOCATION:Merseyside Youth Association\, 65-67 Hanover Street\, Liverpool\, Liverpool\, L1 3DY\, United Kingdom
ATTACH;FMTTYPE=image/png:https://stage-bemore.awtg.net/wp-content/uploads/2022/10/stock-event.png
GEO:53.404306319392;-2.9825169067472
X-APPLE-STRUCTURED-LOCATION;VALUE=URI;X-ADDRESS=Merseyside Youth Association 65-67 Hanover Street Liverpool Liverpool L1 3DY United Kingdom;X-APPLE-RADIUS=500;X-TITLE=65-67 Hanover Street:geo:-2.9825169067472,53.404306319392
END:VEVENT
BEGIN:VEVENT
DTSTART;TZID=UTC:20241127T130000
DTEND;TZID=UTC:20241127T170000
DTSTAMP:20260425T024658
CREATED:20221018T175015Z
LAST-MODIFIED:20231218T144607Z
UID:10005328-1732712400-1732726800@stage-bemore.awtg.net
SUMMARY:WEDNESDAY AFTERNOONS WITH THE HUB
DESCRIPTION:Personal skills development programme for a neurodiverse cohort of 15 young people. Activities include – CV building\, employer sessions\, woodland walk and much more!
URL:https://stage-bemore.awtg.net/events/wednesday-afternoons-with-the-hub-2/2024-11-27/
LOCATION:Merseyside Youth Association\, 65-67 Hanover Street\, Liverpool\, Liverpool\, L1 3DY\, United Kingdom
ATTACH;FMTTYPE=image/jpeg:https://stage-bemore.awtg.net/wp-content/uploads/2022/10/Merseyside-Youth-Association.jpg
GEO:53.404306319392;-2.9825169067472
X-APPLE-STRUCTURED-LOCATION;VALUE=URI;X-ADDRESS=Merseyside Youth Association 65-67 Hanover Street Liverpool Liverpool L1 3DY United Kingdom;X-APPLE-RADIUS=500;X-TITLE=65-67 Hanover Street:geo:-2.9825169067472,53.404306319392
END:VEVENT
BEGIN:VEVENT
DTSTART;TZID=UTC:20241127T130000
DTEND;TZID=UTC:20241127T170000
DTSTAMP:20260425T024658
CREATED:20221018T172632Z
LAST-MODIFIED:20221018T180221Z
UID:10005483-1732712400-1732726800@stage-bemore.awtg.net
SUMMARY:DROP IN SESSIONS
DESCRIPTION:DWP Work Coach available to support with Universal Credit claims.
URL:https://stage-bemore.awtg.net/events/drop-in-sessions/2024-11-27/
LOCATION:Merseyside Youth Association\, 65-67 Hanover Street\, Liverpool\, Liverpool\, L1 3DY\, United Kingdom
ATTACH;FMTTYPE=image/png:https://stage-bemore.awtg.net/wp-content/uploads/2022/10/stock-event.png
GEO:53.404306319392;-2.9825169067472
X-APPLE-STRUCTURED-LOCATION;VALUE=URI;X-ADDRESS=Merseyside Youth Association 65-67 Hanover Street Liverpool Liverpool L1 3DY United Kingdom;X-APPLE-RADIUS=500;X-TITLE=65-67 Hanover Street:geo:-2.9825169067472,53.404306319392
END:VEVENT
BEGIN:VEVENT
DTSTART;TZID=UTC:20241122T000000
DTEND;TZID=UTC:20241122T235959
DTSTAMP:20260425T024658
CREATED:20221018T172012Z
LAST-MODIFIED:20221018T180345Z
UID:10005183-1732233600-1732319999@stage-bemore.awtg.net
SUMMARY:CV SUPPORT
DESCRIPTION:Seetec CV Advisor attending Hub
URL:https://stage-bemore.awtg.net/events/cv-support/2024-11-22/
LOCATION:Merseyside Youth Association\, 65-67 Hanover Street\, Liverpool\, Liverpool\, L1 3DY\, United Kingdom
ATTACH;FMTTYPE=image/png:https://stage-bemore.awtg.net/wp-content/uploads/2022/10/stock-event.png
GEO:53.404306319392;-2.9825169067472
X-APPLE-STRUCTURED-LOCATION;VALUE=URI;X-ADDRESS=Merseyside Youth Association 65-67 Hanover Street Liverpool Liverpool L1 3DY United Kingdom;X-APPLE-RADIUS=500;X-TITLE=65-67 Hanover Street:geo:-2.9825169067472,53.404306319392
END:VEVENT
BEGIN:VEVENT
DTSTART;TZID=UTC:20241120T130000
DTEND;TZID=UTC:20241120T170000
DTSTAMP:20260425T024658
CREATED:20221018T175015Z
LAST-MODIFIED:20231218T144607Z
UID:10005327-1732107600-1732122000@stage-bemore.awtg.net
SUMMARY:WEDNESDAY AFTERNOONS WITH THE HUB
DESCRIPTION:Personal skills development programme for a neurodiverse cohort of 15 young people. Activities include – CV building\, employer sessions\, woodland walk and much more!
URL:https://stage-bemore.awtg.net/events/wednesday-afternoons-with-the-hub-2/2024-11-20/
LOCATION:Merseyside Youth Association\, 65-67 Hanover Street\, Liverpool\, Liverpool\, L1 3DY\, United Kingdom
ATTACH;FMTTYPE=image/jpeg:https://stage-bemore.awtg.net/wp-content/uploads/2022/10/Merseyside-Youth-Association.jpg
GEO:53.404306319392;-2.9825169067472
X-APPLE-STRUCTURED-LOCATION;VALUE=URI;X-ADDRESS=Merseyside Youth Association 65-67 Hanover Street Liverpool Liverpool L1 3DY United Kingdom;X-APPLE-RADIUS=500;X-TITLE=65-67 Hanover Street:geo:-2.9825169067472,53.404306319392
END:VEVENT
BEGIN:VEVENT
DTSTART;TZID=UTC:20241120T130000
DTEND;TZID=UTC:20241120T170000
DTSTAMP:20260425T024658
CREATED:20221018T172632Z
LAST-MODIFIED:20221018T180221Z
UID:10005482-1732107600-1732122000@stage-bemore.awtg.net
SUMMARY:DROP IN SESSIONS
DESCRIPTION:DWP Work Coach available to support with Universal Credit claims.
URL:https://stage-bemore.awtg.net/events/drop-in-sessions/2024-11-20/
LOCATION:Merseyside Youth Association\, 65-67 Hanover Street\, Liverpool\, Liverpool\, L1 3DY\, United Kingdom
ATTACH;FMTTYPE=image/png:https://stage-bemore.awtg.net/wp-content/uploads/2022/10/stock-event.png
GEO:53.404306319392;-2.9825169067472
X-APPLE-STRUCTURED-LOCATION;VALUE=URI;X-ADDRESS=Merseyside Youth Association 65-67 Hanover Street Liverpool Liverpool L1 3DY United Kingdom;X-APPLE-RADIUS=500;X-TITLE=65-67 Hanover Street:geo:-2.9825169067472,53.404306319392
END:VEVENT
BEGIN:VEVENT
DTSTART;TZID=UTC:20241115T000000
DTEND;TZID=UTC:20241115T235959
DTSTAMP:20260425T024658
CREATED:20221018T172012Z
LAST-MODIFIED:20221018T180345Z
UID:10005182-1731628800-1731715199@stage-bemore.awtg.net
SUMMARY:CV SUPPORT
DESCRIPTION:Seetec CV Advisor attending Hub
URL:https://stage-bemore.awtg.net/events/cv-support/2024-11-15/
LOCATION:Merseyside Youth Association\, 65-67 Hanover Street\, Liverpool\, Liverpool\, L1 3DY\, United Kingdom
ATTACH;FMTTYPE=image/png:https://stage-bemore.awtg.net/wp-content/uploads/2022/10/stock-event.png
GEO:53.404306319392;-2.9825169067472
X-APPLE-STRUCTURED-LOCATION;VALUE=URI;X-ADDRESS=Merseyside Youth Association 65-67 Hanover Street Liverpool Liverpool L1 3DY United Kingdom;X-APPLE-RADIUS=500;X-TITLE=65-67 Hanover Street:geo:-2.9825169067472,53.404306319392
END:VEVENT
END:VCALENDAR