



BEGIN:VCALENDAR
VERSION:2.0
PRODID:-//BeMore - ECPv6.15.1//NONSGML v1.0//EN
CALSCALE:GREGORIAN
METHOD:PUBLISH
X-WR-CALNAME:BeMore
X-ORIGINAL-URL:https://stage-bemore.awtg.net
X-WR-CALDESC:Events for BeMore
REFRESH-INTERVAL;VALUE=DURATION:PT1H
X-Robots-Tag:noindex
X-PUBLISHED-TTL:PT1H
BEGIN:VTIMEZONE
TZID:UTC
BEGIN:STANDARD
TZOFFSETFROM:+0000
TZOFFSETTO:+0000
TZNAME:UTC
DTSTART:20250101T000000
END:STANDARD
END:VTIMEZONE
BEGIN:VEVENT
DTSTART;TZID=UTC:20251229T103000
DTEND;TZID=UTC:20251229T103000
DTSTAMP:20260424T073332
CREATED:20221018T181702Z
LAST-MODIFIED:20221018T181703Z
UID:10010043-1767004200-1767004200@stage-bemore.awtg.net
SUMMARY:DBS EXPERIENCE PROGRAMME
DESCRIPTION:
URL:https://stage-bemore.awtg.net/events/dbs-experience-programme/2025-12-29/
LOCATION:Thrive\, 21-23 Preston Street\, Liverpool\, Liverpool\, L1 6DP\, United Kingdom
ATTACH;FMTTYPE=image/jpeg:https://stage-bemore.awtg.net/wp-content/uploads/2022/10/Thrive.jpg
GEO:53.408947259526;-2.9849363644176
X-APPLE-STRUCTURED-LOCATION;VALUE=URI;X-ADDRESS=Thrive 21-23 Preston Street Liverpool Liverpool L1 6DP United Kingdom;X-APPLE-RADIUS=500;X-TITLE=21-23 Preston Street:geo:-2.9849363644176,53.408947259526
END:VEVENT
BEGIN:VEVENT
DTSTART;TZID=UTC:20251230T103000
DTEND;TZID=UTC:20251230T103000
DTSTAMP:20260424T073332
CREATED:20221018T181702Z
LAST-MODIFIED:20221018T181703Z
UID:10010044-1767090600-1767090600@stage-bemore.awtg.net
SUMMARY:DBS EXPERIENCE PROGRAMME
DESCRIPTION:
URL:https://stage-bemore.awtg.net/events/dbs-experience-programme/2025-12-30/
LOCATION:Thrive\, 21-23 Preston Street\, Liverpool\, Liverpool\, L1 6DP\, United Kingdom
ATTACH;FMTTYPE=image/jpeg:https://stage-bemore.awtg.net/wp-content/uploads/2022/10/Thrive.jpg
GEO:53.408947259526;-2.9849363644176
X-APPLE-STRUCTURED-LOCATION;VALUE=URI;X-ADDRESS=Thrive 21-23 Preston Street Liverpool Liverpool L1 6DP United Kingdom;X-APPLE-RADIUS=500;X-TITLE=21-23 Preston Street:geo:-2.9849363644176,53.408947259526
END:VEVENT
BEGIN:VEVENT
DTSTART;TZID=UTC:20251231T103000
DTEND;TZID=UTC:20251231T103000
DTSTAMP:20260424T073332
CREATED:20221018T181702Z
LAST-MODIFIED:20221018T181703Z
UID:10010045-1767177000-1767177000@stage-bemore.awtg.net
SUMMARY:DBS EXPERIENCE PROGRAMME
DESCRIPTION:
URL:https://stage-bemore.awtg.net/events/dbs-experience-programme/2025-12-31/
LOCATION:Thrive\, 21-23 Preston Street\, Liverpool\, Liverpool\, L1 6DP\, United Kingdom
ATTACH;FMTTYPE=image/jpeg:https://stage-bemore.awtg.net/wp-content/uploads/2022/10/Thrive.jpg
GEO:53.408947259526;-2.9849363644176
X-APPLE-STRUCTURED-LOCATION;VALUE=URI;X-ADDRESS=Thrive 21-23 Preston Street Liverpool Liverpool L1 6DP United Kingdom;X-APPLE-RADIUS=500;X-TITLE=21-23 Preston Street:geo:-2.9849363644176,53.408947259526
END:VEVENT
BEGIN:VEVENT
DTSTART;TZID=UTC:20260101T103000
DTEND;TZID=UTC:20260101T103000
DTSTAMP:20260424T073332
CREATED:20221018T181702Z
LAST-MODIFIED:20221018T181703Z
UID:10010046-1767263400-1767263400@stage-bemore.awtg.net
SUMMARY:DBS EXPERIENCE PROGRAMME
DESCRIPTION:
URL:https://stage-bemore.awtg.net/events/dbs-experience-programme/2026-01-01/
LOCATION:Thrive\, 21-23 Preston Street\, Liverpool\, Liverpool\, L1 6DP\, United Kingdom
ATTACH;FMTTYPE=image/jpeg:https://stage-bemore.awtg.net/wp-content/uploads/2022/10/Thrive.jpg
GEO:53.408947259526;-2.9849363644176
X-APPLE-STRUCTURED-LOCATION;VALUE=URI;X-ADDRESS=Thrive 21-23 Preston Street Liverpool Liverpool L1 6DP United Kingdom;X-APPLE-RADIUS=500;X-TITLE=21-23 Preston Street:geo:-2.9849363644176,53.408947259526
END:VEVENT
BEGIN:VEVENT
DTSTART;TZID=UTC:20260102T103000
DTEND;TZID=UTC:20260102T103000
DTSTAMP:20260424T073332
CREATED:20221018T181702Z
LAST-MODIFIED:20221018T181703Z
UID:10010047-1767349800-1767349800@stage-bemore.awtg.net
SUMMARY:DBS EXPERIENCE PROGRAMME
DESCRIPTION:
URL:https://stage-bemore.awtg.net/events/dbs-experience-programme/2026-01-02/
LOCATION:Thrive\, 21-23 Preston Street\, Liverpool\, Liverpool\, L1 6DP\, United Kingdom
ATTACH;FMTTYPE=image/jpeg:https://stage-bemore.awtg.net/wp-content/uploads/2022/10/Thrive.jpg
GEO:53.408947259526;-2.9849363644176
X-APPLE-STRUCTURED-LOCATION;VALUE=URI;X-ADDRESS=Thrive 21-23 Preston Street Liverpool Liverpool L1 6DP United Kingdom;X-APPLE-RADIUS=500;X-TITLE=21-23 Preston Street:geo:-2.9849363644176,53.408947259526
END:VEVENT
BEGIN:VEVENT
DTSTART;TZID=UTC:20260103T103000
DTEND;TZID=UTC:20260103T103000
DTSTAMP:20260424T073332
CREATED:20221018T181702Z
LAST-MODIFIED:20221018T181703Z
UID:10010048-1767436200-1767436200@stage-bemore.awtg.net
SUMMARY:DBS EXPERIENCE PROGRAMME
DESCRIPTION:
URL:https://stage-bemore.awtg.net/events/dbs-experience-programme/2026-01-03/
LOCATION:Thrive\, 21-23 Preston Street\, Liverpool\, Liverpool\, L1 6DP\, United Kingdom
ATTACH;FMTTYPE=image/jpeg:https://stage-bemore.awtg.net/wp-content/uploads/2022/10/Thrive.jpg
GEO:53.408947259526;-2.9849363644176
X-APPLE-STRUCTURED-LOCATION;VALUE=URI;X-ADDRESS=Thrive 21-23 Preston Street Liverpool Liverpool L1 6DP United Kingdom;X-APPLE-RADIUS=500;X-TITLE=21-23 Preston Street:geo:-2.9849363644176,53.408947259526
END:VEVENT
BEGIN:VEVENT
DTSTART;TZID=UTC:20260104T103000
DTEND;TZID=UTC:20260104T103000
DTSTAMP:20260424T073332
CREATED:20221018T181702Z
LAST-MODIFIED:20221018T181703Z
UID:10010049-1767522600-1767522600@stage-bemore.awtg.net
SUMMARY:DBS EXPERIENCE PROGRAMME
DESCRIPTION:
URL:https://stage-bemore.awtg.net/events/dbs-experience-programme/2026-01-04/
LOCATION:Thrive\, 21-23 Preston Street\, Liverpool\, Liverpool\, L1 6DP\, United Kingdom
ATTACH;FMTTYPE=image/jpeg:https://stage-bemore.awtg.net/wp-content/uploads/2022/10/Thrive.jpg
GEO:53.408947259526;-2.9849363644176
X-APPLE-STRUCTURED-LOCATION;VALUE=URI;X-ADDRESS=Thrive 21-23 Preston Street Liverpool Liverpool L1 6DP United Kingdom;X-APPLE-RADIUS=500;X-TITLE=21-23 Preston Street:geo:-2.9849363644176,53.408947259526
END:VEVENT
END:VCALENDAR