



BEGIN:VCALENDAR
VERSION:2.0
PRODID:-//BeMore - ECPv6.15.1//NONSGML v1.0//EN
CALSCALE:GREGORIAN
METHOD:PUBLISH
X-WR-CALNAME:BeMore
X-ORIGINAL-URL:https://stage-bemore.awtg.net
X-WR-CALDESC:Events for BeMore
REFRESH-INTERVAL;VALUE=DURATION:PT1H
X-Robots-Tag:noindex
X-PUBLISHED-TTL:PT1H
BEGIN:VTIMEZONE
TZID:UTC
BEGIN:STANDARD
TZOFFSETFROM:+0000
TZOFFSETTO:+0000
TZNAME:UTC
DTSTART:20220101T000000
END:STANDARD
END:VTIMEZONE
BEGIN:VTIMEZONE
TZID:Europe/Paris
BEGIN:DAYLIGHT
TZOFFSETFROM:+0100
TZOFFSETTO:+0200
TZNAME:CEST
DTSTART:20220327T010000
END:DAYLIGHT
BEGIN:STANDARD
TZOFFSETFROM:+0200
TZOFFSETTO:+0100
TZNAME:CET
DTSTART:20221030T010000
END:STANDARD
END:VTIMEZONE
BEGIN:VEVENT
DTSTART;TZID=UTC:20221024T130000
DTEND;TZID=UTC:20221024T130000
DTSTAMP:20260422T010542
CREATED:20221018T181508Z
LAST-MODIFIED:20221018T181509Z
UID:10005537-1666616400-1666616400@stage-bemore.awtg.net
SUMMARY:CV DROP IN
DESCRIPTION:
URL:https://stage-bemore.awtg.net/events/cv-drop-in/2022-10-24/
LOCATION:Thrive\, 21-23 Preston Street\, Liverpool\, Liverpool\, L1 6DP\, United Kingdom
ATTACH;FMTTYPE=image/jpeg:https://stage-bemore.awtg.net/wp-content/uploads/2022/10/Thrive.jpg
GEO:53.408947259526;-2.9849363644176
X-APPLE-STRUCTURED-LOCATION;VALUE=URI;X-ADDRESS=Thrive 21-23 Preston Street Liverpool Liverpool L1 6DP United Kingdom;X-APPLE-RADIUS=500;X-TITLE=21-23 Preston Street:geo:-2.9849363644176,53.408947259526
END:VEVENT
BEGIN:VEVENT
DTSTART;TZID=UTC:20221021T000000
DTEND;TZID=UTC:20221021T235959
DTSTAMP:20260422T010542
CREATED:20221018T172012Z
LAST-MODIFIED:20221018T180345Z
UID:10005074-1666310400-1666396799@stage-bemore.awtg.net
SUMMARY:CV SUPPORT
DESCRIPTION:Seetec CV Advisor attending Hub
URL:https://stage-bemore.awtg.net/events/cv-support/2022-10-21/
LOCATION:Merseyside Youth Association\, 65-67 Hanover Street\, Liverpool\, Liverpool\, L1 3DY\, United Kingdom
ATTACH;FMTTYPE=image/png:https://stage-bemore.awtg.net/wp-content/uploads/2022/10/stock-event.png
GEO:53.404306319392;-2.9825169067472
X-APPLE-STRUCTURED-LOCATION;VALUE=URI;X-ADDRESS=Merseyside Youth Association 65-67 Hanover Street Liverpool Liverpool L1 3DY United Kingdom;X-APPLE-RADIUS=500;X-TITLE=65-67 Hanover Street:geo:-2.9825169067472,53.404306319392
END:VEVENT
BEGIN:VEVENT
DTSTART;TZID=UTC:20221019T130000
DTEND;TZID=UTC:20221019T170000
DTSTAMP:20260422T010542
CREATED:20221018T180535Z
LAST-MODIFIED:20221018T180536Z
UID:10005529-1666184400-1666198800@stage-bemore.awtg.net
SUMMARY:WEDNESDAY AFTERNOONS WITH THE HUB
DESCRIPTION:Personal skills development programme for a neurodiverse cohort of 15 young people. Activities include – CV building\, employer sessions\, woodland walk and much more!
URL:https://stage-bemore.awtg.net/events/wednesday-afternoons-with-the-hub/2022-10-19/
LOCATION:Merseyside Youth Association\, 65-67 Hanover Street\, Liverpool\, Liverpool\, L1 3DY\, United Kingdom
ATTACH;FMTTYPE=image/png:https://stage-bemore.awtg.net/wp-content/uploads/2022/10/stock-event.png
GEO:53.404306319392;-2.9825169067472
X-APPLE-STRUCTURED-LOCATION;VALUE=URI;X-ADDRESS=Merseyside Youth Association 65-67 Hanover Street Liverpool Liverpool L1 3DY United Kingdom;X-APPLE-RADIUS=500;X-TITLE=65-67 Hanover Street:geo:-2.9825169067472,53.404306319392
END:VEVENT
BEGIN:VEVENT
DTSTART;TZID=UTC:20221019T130000
DTEND;TZID=UTC:20221019T170000
DTSTAMP:20260422T010542
CREATED:20221018T172632Z
LAST-MODIFIED:20221018T180221Z
UID:10005373-1666184400-1666198800@stage-bemore.awtg.net
SUMMARY:DROP IN SESSIONS
DESCRIPTION:DWP Work Coach available to support with Universal Credit claims.
URL:https://stage-bemore.awtg.net/events/drop-in-sessions/2022-10-19/
LOCATION:Merseyside Youth Association\, 65-67 Hanover Street\, Liverpool\, Liverpool\, L1 3DY\, United Kingdom
ATTACH;FMTTYPE=image/png:https://stage-bemore.awtg.net/wp-content/uploads/2022/10/stock-event.png
GEO:53.404306319392;-2.9825169067472
X-APPLE-STRUCTURED-LOCATION;VALUE=URI;X-ADDRESS=Merseyside Youth Association 65-67 Hanover Street Liverpool Liverpool L1 3DY United Kingdom;X-APPLE-RADIUS=500;X-TITLE=65-67 Hanover Street:geo:-2.9825169067472,53.404306319392
END:VEVENT
BEGIN:VEVENT
DTSTART;TZID=Europe/Paris:20221018T110000
DTEND;TZID=Europe/Paris:20221018T130000
DTSTAMP:20260422T010542
CREATED:20260421T134613Z
LAST-MODIFIED:20260421T134613Z
UID:10011884-1666090800-1666098000@stage-bemore.awtg.net
SUMMARY:HOW TO GET AND KEEP CUSTOMERS
DESCRIPTION:Entrepreneurs and SME leaders can receive a masterclass on gaining clients and keeping returning customers
URL:https://stage-bemore.awtg.net/events/how-to-get-and-keep-customers-434/
LOCATION:Liverpool
ATTACH;FMTTYPE=image/png:https://stage-bemore.awtg.net/wp-content/uploads/2022/10/stock-event.png
END:VEVENT
BEGIN:VEVENT
DTSTART;TZID=Europe/Paris:20221018T110000
DTEND;TZID=Europe/Paris:20221018T130000
DTSTAMP:20260422T010542
CREATED:20260421T013816Z
LAST-MODIFIED:20260421T013816Z
UID:10011883-1666090800-1666098000@stage-bemore.awtg.net
SUMMARY:HOW TO GET AND KEEP CUSTOMERS
DESCRIPTION:Entrepreneurs and SME leaders can receive a masterclass on gaining clients and keeping returning customers
URL:https://stage-bemore.awtg.net/events/how-to-get-and-keep-customers-433/
LOCATION:Liverpool
ATTACH;FMTTYPE=image/png:https://stage-bemore.awtg.net/wp-content/uploads/2022/10/stock-event.png
END:VEVENT
BEGIN:VEVENT
DTSTART;TZID=Europe/Paris:20221018T110000
DTEND;TZID=Europe/Paris:20221018T130000
DTSTAMP:20260422T010542
CREATED:20260420T134832Z
LAST-MODIFIED:20260420T134832Z
UID:10011882-1666090800-1666098000@stage-bemore.awtg.net
SUMMARY:HOW TO GET AND KEEP CUSTOMERS
DESCRIPTION:Entrepreneurs and SME leaders can receive a masterclass on gaining clients and keeping returning customers
URL:https://stage-bemore.awtg.net/events/how-to-get-and-keep-customers-432/
LOCATION:Liverpool
ATTACH;FMTTYPE=image/png:https://stage-bemore.awtg.net/wp-content/uploads/2022/10/stock-event.png
END:VEVENT
BEGIN:VEVENT
DTSTART;TZID=Europe/Paris:20221018T110000
DTEND;TZID=Europe/Paris:20221018T130000
DTSTAMP:20260422T010542
CREATED:20260420T014000Z
LAST-MODIFIED:20260420T014000Z
UID:10011881-1666090800-1666098000@stage-bemore.awtg.net
SUMMARY:HOW TO GET AND KEEP CUSTOMERS
DESCRIPTION:Entrepreneurs and SME leaders can receive a masterclass on gaining clients and keeping returning customers
URL:https://stage-bemore.awtg.net/events/how-to-get-and-keep-customers-431/
LOCATION:Liverpool
ATTACH;FMTTYPE=image/png:https://stage-bemore.awtg.net/wp-content/uploads/2022/10/stock-event.png
END:VEVENT
BEGIN:VEVENT
DTSTART;TZID=Europe/Paris:20221018T110000
DTEND;TZID=Europe/Paris:20221018T130000
DTSTAMP:20260422T010542
CREATED:20260419T134756Z
LAST-MODIFIED:20260419T134756Z
UID:10011880-1666090800-1666098000@stage-bemore.awtg.net
SUMMARY:HOW TO GET AND KEEP CUSTOMERS
DESCRIPTION:Entrepreneurs and SME leaders can receive a masterclass on gaining clients and keeping returning customers
URL:https://stage-bemore.awtg.net/events/how-to-get-and-keep-customers-430/
LOCATION:Liverpool
ATTACH;FMTTYPE=image/png:https://stage-bemore.awtg.net/wp-content/uploads/2022/10/stock-event.png
END:VEVENT
BEGIN:VEVENT
DTSTART;TZID=Europe/Paris:20221018T110000
DTEND;TZID=Europe/Paris:20221018T130000
DTSTAMP:20260422T010542
CREATED:20260419T014339Z
LAST-MODIFIED:20260419T014339Z
UID:10011879-1666090800-1666098000@stage-bemore.awtg.net
SUMMARY:HOW TO GET AND KEEP CUSTOMERS
DESCRIPTION:Entrepreneurs and SME leaders can receive a masterclass on gaining clients and keeping returning customers
URL:https://stage-bemore.awtg.net/events/how-to-get-and-keep-customers-429/
LOCATION:Liverpool
ATTACH;FMTTYPE=image/png:https://stage-bemore.awtg.net/wp-content/uploads/2022/10/stock-event.png
END:VEVENT
BEGIN:VEVENT
DTSTART;TZID=Europe/Paris:20221018T110000
DTEND;TZID=Europe/Paris:20221018T130000
DTSTAMP:20260422T010542
CREATED:20260418T134233Z
LAST-MODIFIED:20260418T134233Z
UID:10011878-1666090800-1666098000@stage-bemore.awtg.net
SUMMARY:HOW TO GET AND KEEP CUSTOMERS
DESCRIPTION:Entrepreneurs and SME leaders can receive a masterclass on gaining clients and keeping returning customers
URL:https://stage-bemore.awtg.net/events/how-to-get-and-keep-customers-428/
LOCATION:Liverpool
ATTACH;FMTTYPE=image/png:https://stage-bemore.awtg.net/wp-content/uploads/2022/10/stock-event.png
END:VEVENT
BEGIN:VEVENT
DTSTART;TZID=Europe/Paris:20221018T110000
DTEND;TZID=Europe/Paris:20221018T130000
DTSTAMP:20260422T010542
CREATED:20260418T013843Z
LAST-MODIFIED:20260418T013843Z
UID:10011877-1666090800-1666098000@stage-bemore.awtg.net
SUMMARY:HOW TO GET AND KEEP CUSTOMERS
DESCRIPTION:Entrepreneurs and SME leaders can receive a masterclass on gaining clients and keeping returning customers
URL:https://stage-bemore.awtg.net/events/how-to-get-and-keep-customers-427/
LOCATION:Liverpool
ATTACH;FMTTYPE=image/png:https://stage-bemore.awtg.net/wp-content/uploads/2022/10/stock-event.png
END:VEVENT
BEGIN:VEVENT
DTSTART;TZID=Europe/Paris:20221018T110000
DTEND;TZID=Europe/Paris:20221018T130000
DTSTAMP:20260422T010542
CREATED:20260417T134032Z
LAST-MODIFIED:20260417T134032Z
UID:10011876-1666090800-1666098000@stage-bemore.awtg.net
SUMMARY:HOW TO GET AND KEEP CUSTOMERS
DESCRIPTION:Entrepreneurs and SME leaders can receive a masterclass on gaining clients and keeping returning customers
URL:https://stage-bemore.awtg.net/events/how-to-get-and-keep-customers-426/
LOCATION:Liverpool
ATTACH;FMTTYPE=image/png:https://stage-bemore.awtg.net/wp-content/uploads/2022/10/stock-event.png
END:VEVENT
BEGIN:VEVENT
DTSTART;TZID=Europe/Paris:20221018T110000
DTEND;TZID=Europe/Paris:20221018T130000
DTSTAMP:20260422T010542
CREATED:20260417T013812Z
LAST-MODIFIED:20260417T013812Z
UID:10011875-1666090800-1666098000@stage-bemore.awtg.net
SUMMARY:HOW TO GET AND KEEP CUSTOMERS
DESCRIPTION:Entrepreneurs and SME leaders can receive a masterclass on gaining clients and keeping returning customers
URL:https://stage-bemore.awtg.net/events/how-to-get-and-keep-customers-425/
LOCATION:Liverpool
ATTACH;FMTTYPE=image/png:https://stage-bemore.awtg.net/wp-content/uploads/2022/10/stock-event.png
END:VEVENT
BEGIN:VEVENT
DTSTART;TZID=Europe/Paris:20221018T110000
DTEND;TZID=Europe/Paris:20221018T130000
DTSTAMP:20260422T010542
CREATED:20260416T134442Z
LAST-MODIFIED:20260416T134442Z
UID:10011874-1666090800-1666098000@stage-bemore.awtg.net
SUMMARY:HOW TO GET AND KEEP CUSTOMERS
DESCRIPTION:Entrepreneurs and SME leaders can receive a masterclass on gaining clients and keeping returning customers
URL:https://stage-bemore.awtg.net/events/how-to-get-and-keep-customers-424/
LOCATION:Liverpool
ATTACH;FMTTYPE=image/png:https://stage-bemore.awtg.net/wp-content/uploads/2022/10/stock-event.png
END:VEVENT
BEGIN:VEVENT
DTSTART;TZID=Europe/Paris:20221018T110000
DTEND;TZID=Europe/Paris:20221018T130000
DTSTAMP:20260422T010542
CREATED:20260416T014406Z
LAST-MODIFIED:20260416T014406Z
UID:10011873-1666090800-1666098000@stage-bemore.awtg.net
SUMMARY:HOW TO GET AND KEEP CUSTOMERS
DESCRIPTION:Entrepreneurs and SME leaders can receive a masterclass on gaining clients and keeping returning customers
URL:https://stage-bemore.awtg.net/events/how-to-get-and-keep-customers-423/
LOCATION:Liverpool
ATTACH;FMTTYPE=image/png:https://stage-bemore.awtg.net/wp-content/uploads/2022/10/stock-event.png
END:VEVENT
BEGIN:VEVENT
DTSTART;TZID=Europe/Paris:20221018T110000
DTEND;TZID=Europe/Paris:20221018T130000
DTSTAMP:20260422T010542
CREATED:20260415T134104Z
LAST-MODIFIED:20260415T134104Z
UID:10011872-1666090800-1666098000@stage-bemore.awtg.net
SUMMARY:HOW TO GET AND KEEP CUSTOMERS
DESCRIPTION:Entrepreneurs and SME leaders can receive a masterclass on gaining clients and keeping returning customers
URL:https://stage-bemore.awtg.net/events/how-to-get-and-keep-customers-422/
LOCATION:Liverpool
ATTACH;FMTTYPE=image/png:https://stage-bemore.awtg.net/wp-content/uploads/2022/10/stock-event.png
END:VEVENT
BEGIN:VEVENT
DTSTART;TZID=Europe/Paris:20221018T110000
DTEND;TZID=Europe/Paris:20221018T130000
DTSTAMP:20260422T010542
CREATED:20260415T013750Z
LAST-MODIFIED:20260415T013750Z
UID:10011871-1666090800-1666098000@stage-bemore.awtg.net
SUMMARY:HOW TO GET AND KEEP CUSTOMERS
DESCRIPTION:Entrepreneurs and SME leaders can receive a masterclass on gaining clients and keeping returning customers
URL:https://stage-bemore.awtg.net/events/how-to-get-and-keep-customers-421/
LOCATION:Liverpool
ATTACH;FMTTYPE=image/png:https://stage-bemore.awtg.net/wp-content/uploads/2022/10/stock-event.png
END:VEVENT
BEGIN:VEVENT
DTSTART;TZID=Europe/Paris:20221018T110000
DTEND;TZID=Europe/Paris:20221018T130000
DTSTAMP:20260422T010542
CREATED:20260414T134104Z
LAST-MODIFIED:20260414T134104Z
UID:10011870-1666090800-1666098000@stage-bemore.awtg.net
SUMMARY:HOW TO GET AND KEEP CUSTOMERS
DESCRIPTION:Entrepreneurs and SME leaders can receive a masterclass on gaining clients and keeping returning customers
URL:https://stage-bemore.awtg.net/events/how-to-get-and-keep-customers-420/
LOCATION:Liverpool
ATTACH;FMTTYPE=image/png:https://stage-bemore.awtg.net/wp-content/uploads/2022/10/stock-event.png
END:VEVENT
BEGIN:VEVENT
DTSTART;TZID=Europe/Paris:20221018T110000
DTEND;TZID=Europe/Paris:20221018T130000
DTSTAMP:20260422T010542
CREATED:20260414T014006Z
LAST-MODIFIED:20260414T014006Z
UID:10011869-1666090800-1666098000@stage-bemore.awtg.net
SUMMARY:HOW TO GET AND KEEP CUSTOMERS
DESCRIPTION:Entrepreneurs and SME leaders can receive a masterclass on gaining clients and keeping returning customers
URL:https://stage-bemore.awtg.net/events/how-to-get-and-keep-customers-419/
LOCATION:Liverpool
ATTACH;FMTTYPE=image/png:https://stage-bemore.awtg.net/wp-content/uploads/2022/10/stock-event.png
END:VEVENT
BEGIN:VEVENT
DTSTART;TZID=Europe/Paris:20221018T110000
DTEND;TZID=Europe/Paris:20221018T130000
DTSTAMP:20260422T010542
CREATED:20260413T134523Z
LAST-MODIFIED:20260413T134523Z
UID:10011868-1666090800-1666098000@stage-bemore.awtg.net
SUMMARY:HOW TO GET AND KEEP CUSTOMERS
DESCRIPTION:Entrepreneurs and SME leaders can receive a masterclass on gaining clients and keeping returning customers
URL:https://stage-bemore.awtg.net/events/how-to-get-and-keep-customers-418/
LOCATION:Liverpool
ATTACH;FMTTYPE=image/png:https://stage-bemore.awtg.net/wp-content/uploads/2022/10/stock-event.png
END:VEVENT
BEGIN:VEVENT
DTSTART;TZID=Europe/Paris:20221018T110000
DTEND;TZID=Europe/Paris:20221018T130000
DTSTAMP:20260422T010542
CREATED:20260413T013815Z
LAST-MODIFIED:20260413T013815Z
UID:10011867-1666090800-1666098000@stage-bemore.awtg.net
SUMMARY:HOW TO GET AND KEEP CUSTOMERS
DESCRIPTION:Entrepreneurs and SME leaders can receive a masterclass on gaining clients and keeping returning customers
URL:https://stage-bemore.awtg.net/events/how-to-get-and-keep-customers-417/
LOCATION:Liverpool
ATTACH;FMTTYPE=image/png:https://stage-bemore.awtg.net/wp-content/uploads/2022/10/stock-event.png
END:VEVENT
BEGIN:VEVENT
DTSTART;TZID=Europe/Paris:20221018T110000
DTEND;TZID=Europe/Paris:20221018T130000
DTSTAMP:20260422T010542
CREATED:20260412T133745Z
LAST-MODIFIED:20260412T133745Z
UID:10011866-1666090800-1666098000@stage-bemore.awtg.net
SUMMARY:HOW TO GET AND KEEP CUSTOMERS
DESCRIPTION:Entrepreneurs and SME leaders can receive a masterclass on gaining clients and keeping returning customers
URL:https://stage-bemore.awtg.net/events/how-to-get-and-keep-customers-416/
LOCATION:Liverpool
ATTACH;FMTTYPE=image/png:https://stage-bemore.awtg.net/wp-content/uploads/2022/10/stock-event.png
END:VEVENT
BEGIN:VEVENT
DTSTART;TZID=Europe/Paris:20221018T110000
DTEND;TZID=Europe/Paris:20221018T130000
DTSTAMP:20260422T010542
CREATED:20260412T013824Z
LAST-MODIFIED:20260412T013824Z
UID:10011865-1666090800-1666098000@stage-bemore.awtg.net
SUMMARY:HOW TO GET AND KEEP CUSTOMERS
DESCRIPTION:Entrepreneurs and SME leaders can receive a masterclass on gaining clients and keeping returning customers
URL:https://stage-bemore.awtg.net/events/how-to-get-and-keep-customers-415/
LOCATION:Liverpool
ATTACH;FMTTYPE=image/png:https://stage-bemore.awtg.net/wp-content/uploads/2022/10/stock-event.png
END:VEVENT
BEGIN:VEVENT
DTSTART;TZID=Europe/Paris:20221018T110000
DTEND;TZID=Europe/Paris:20221018T130000
DTSTAMP:20260422T010542
CREATED:20260411T133824Z
LAST-MODIFIED:20260411T133824Z
UID:10011864-1666090800-1666098000@stage-bemore.awtg.net
SUMMARY:HOW TO GET AND KEEP CUSTOMERS
DESCRIPTION:Entrepreneurs and SME leaders can receive a masterclass on gaining clients and keeping returning customers
URL:https://stage-bemore.awtg.net/events/how-to-get-and-keep-customers-414/
LOCATION:Liverpool
ATTACH;FMTTYPE=image/png:https://stage-bemore.awtg.net/wp-content/uploads/2022/10/stock-event.png
END:VEVENT
BEGIN:VEVENT
DTSTART;TZID=Europe/Paris:20221018T110000
DTEND;TZID=Europe/Paris:20221018T130000
DTSTAMP:20260422T010542
CREATED:20260411T013744Z
LAST-MODIFIED:20260411T013744Z
UID:10011863-1666090800-1666098000@stage-bemore.awtg.net
SUMMARY:HOW TO GET AND KEEP CUSTOMERS
DESCRIPTION:Entrepreneurs and SME leaders can receive a masterclass on gaining clients and keeping returning customers
URL:https://stage-bemore.awtg.net/events/how-to-get-and-keep-customers-413/
LOCATION:Liverpool
ATTACH;FMTTYPE=image/png:https://stage-bemore.awtg.net/wp-content/uploads/2022/10/stock-event.png
END:VEVENT
BEGIN:VEVENT
DTSTART;TZID=Europe/Paris:20221018T110000
DTEND;TZID=Europe/Paris:20221018T130000
DTSTAMP:20260422T010542
CREATED:20260410T133911Z
LAST-MODIFIED:20260410T133911Z
UID:10011862-1666090800-1666098000@stage-bemore.awtg.net
SUMMARY:HOW TO GET AND KEEP CUSTOMERS
DESCRIPTION:Entrepreneurs and SME leaders can receive a masterclass on gaining clients and keeping returning customers
URL:https://stage-bemore.awtg.net/events/how-to-get-and-keep-customers-412/
LOCATION:Liverpool
ATTACH;FMTTYPE=image/png:https://stage-bemore.awtg.net/wp-content/uploads/2022/10/stock-event.png
END:VEVENT
BEGIN:VEVENT
DTSTART;TZID=Europe/Paris:20221018T110000
DTEND;TZID=Europe/Paris:20221018T130000
DTSTAMP:20260422T010542
CREATED:20260410T013842Z
LAST-MODIFIED:20260410T013842Z
UID:10011861-1666090800-1666098000@stage-bemore.awtg.net
SUMMARY:HOW TO GET AND KEEP CUSTOMERS
DESCRIPTION:Entrepreneurs and SME leaders can receive a masterclass on gaining clients and keeping returning customers
URL:https://stage-bemore.awtg.net/events/how-to-get-and-keep-customers-411/
LOCATION:Liverpool
ATTACH;FMTTYPE=image/png:https://stage-bemore.awtg.net/wp-content/uploads/2022/10/stock-event.png
END:VEVENT
BEGIN:VEVENT
DTSTART;TZID=Europe/Paris:20221018T110000
DTEND;TZID=Europe/Paris:20221018T130000
DTSTAMP:20260422T010542
CREATED:20260409T134044Z
LAST-MODIFIED:20260409T134044Z
UID:10011860-1666090800-1666098000@stage-bemore.awtg.net
SUMMARY:HOW TO GET AND KEEP CUSTOMERS
DESCRIPTION:Entrepreneurs and SME leaders can receive a masterclass on gaining clients and keeping returning customers
URL:https://stage-bemore.awtg.net/events/how-to-get-and-keep-customers-410/
LOCATION:Liverpool
ATTACH;FMTTYPE=image/png:https://stage-bemore.awtg.net/wp-content/uploads/2022/10/stock-event.png
END:VEVENT
BEGIN:VEVENT
DTSTART;TZID=Europe/Paris:20221018T110000
DTEND;TZID=Europe/Paris:20221018T130000
DTSTAMP:20260422T010542
CREATED:20260409T013905Z
LAST-MODIFIED:20260409T013905Z
UID:10011859-1666090800-1666098000@stage-bemore.awtg.net
SUMMARY:HOW TO GET AND KEEP CUSTOMERS
DESCRIPTION:Entrepreneurs and SME leaders can receive a masterclass on gaining clients and keeping returning customers
URL:https://stage-bemore.awtg.net/events/how-to-get-and-keep-customers-409/
LOCATION:Liverpool
ATTACH;FMTTYPE=image/png:https://stage-bemore.awtg.net/wp-content/uploads/2022/10/stock-event.png
END:VEVENT
END:VCALENDAR