



BEGIN:VCALENDAR
VERSION:2.0
PRODID:-//BeMore - ECPv6.15.1//NONSGML v1.0//EN
CALSCALE:GREGORIAN
METHOD:PUBLISH
X-WR-CALNAME:BeMore
X-ORIGINAL-URL:https://stage-bemore.awtg.net
X-WR-CALDESC:Events for BeMore
REFRESH-INTERVAL;VALUE=DURATION:PT1H
X-Robots-Tag:noindex
X-PUBLISHED-TTL:PT1H
BEGIN:VTIMEZONE
TZID:Europe/Paris
BEGIN:DAYLIGHT
TZOFFSETFROM:+0100
TZOFFSETTO:+0200
TZNAME:CEST
DTSTART:20220327T010000
END:DAYLIGHT
BEGIN:STANDARD
TZOFFSETFROM:+0200
TZOFFSETTO:+0100
TZNAME:CET
DTSTART:20221030T010000
END:STANDARD
END:VTIMEZONE
BEGIN:VEVENT
DTSTART;TZID=Europe/Paris:20221018T110000
DTEND;TZID=Europe/Paris:20221018T130000
DTSTAMP:20260421T103452
CREATED:20260420T014000Z
LAST-MODIFIED:20260420T014000Z
UID:10011881-1666090800-1666098000@stage-bemore.awtg.net
SUMMARY:HOW TO GET AND KEEP CUSTOMERS
DESCRIPTION:Entrepreneurs and SME leaders can receive a masterclass on gaining clients and keeping returning customers
URL:https://stage-bemore.awtg.net/events/how-to-get-and-keep-customers-431/
LOCATION:Liverpool
ATTACH;FMTTYPE=image/png:https://stage-bemore.awtg.net/wp-content/uploads/2022/10/stock-event.png
END:VEVENT
BEGIN:VEVENT
DTSTART;TZID=Europe/Paris:20221018T110000
DTEND;TZID=Europe/Paris:20221018T130000
DTSTAMP:20260421T103452
CREATED:20260419T134756Z
LAST-MODIFIED:20260419T134756Z
UID:10011880-1666090800-1666098000@stage-bemore.awtg.net
SUMMARY:HOW TO GET AND KEEP CUSTOMERS
DESCRIPTION:Entrepreneurs and SME leaders can receive a masterclass on gaining clients and keeping returning customers
URL:https://stage-bemore.awtg.net/events/how-to-get-and-keep-customers-430/
LOCATION:Liverpool
ATTACH;FMTTYPE=image/png:https://stage-bemore.awtg.net/wp-content/uploads/2022/10/stock-event.png
END:VEVENT
BEGIN:VEVENT
DTSTART;TZID=Europe/Paris:20221018T110000
DTEND;TZID=Europe/Paris:20221018T130000
DTSTAMP:20260421T103452
CREATED:20260419T014339Z
LAST-MODIFIED:20260419T014339Z
UID:10011879-1666090800-1666098000@stage-bemore.awtg.net
SUMMARY:HOW TO GET AND KEEP CUSTOMERS
DESCRIPTION:Entrepreneurs and SME leaders can receive a masterclass on gaining clients and keeping returning customers
URL:https://stage-bemore.awtg.net/events/how-to-get-and-keep-customers-429/
LOCATION:Liverpool
ATTACH;FMTTYPE=image/png:https://stage-bemore.awtg.net/wp-content/uploads/2022/10/stock-event.png
END:VEVENT
BEGIN:VEVENT
DTSTART;TZID=Europe/Paris:20221018T110000
DTEND;TZID=Europe/Paris:20221018T130000
DTSTAMP:20260421T103452
CREATED:20260418T134233Z
LAST-MODIFIED:20260418T134233Z
UID:10011878-1666090800-1666098000@stage-bemore.awtg.net
SUMMARY:HOW TO GET AND KEEP CUSTOMERS
DESCRIPTION:Entrepreneurs and SME leaders can receive a masterclass on gaining clients and keeping returning customers
URL:https://stage-bemore.awtg.net/events/how-to-get-and-keep-customers-428/
LOCATION:Liverpool
ATTACH;FMTTYPE=image/png:https://stage-bemore.awtg.net/wp-content/uploads/2022/10/stock-event.png
END:VEVENT
BEGIN:VEVENT
DTSTART;TZID=Europe/Paris:20221018T110000
DTEND;TZID=Europe/Paris:20221018T130000
DTSTAMP:20260421T103452
CREATED:20260418T013843Z
LAST-MODIFIED:20260418T013843Z
UID:10011877-1666090800-1666098000@stage-bemore.awtg.net
SUMMARY:HOW TO GET AND KEEP CUSTOMERS
DESCRIPTION:Entrepreneurs and SME leaders can receive a masterclass on gaining clients and keeping returning customers
URL:https://stage-bemore.awtg.net/events/how-to-get-and-keep-customers-427/
LOCATION:Liverpool
ATTACH;FMTTYPE=image/png:https://stage-bemore.awtg.net/wp-content/uploads/2022/10/stock-event.png
END:VEVENT
BEGIN:VEVENT
DTSTART;TZID=Europe/Paris:20221018T110000
DTEND;TZID=Europe/Paris:20221018T130000
DTSTAMP:20260421T103452
CREATED:20260417T134032Z
LAST-MODIFIED:20260417T134032Z
UID:10011876-1666090800-1666098000@stage-bemore.awtg.net
SUMMARY:HOW TO GET AND KEEP CUSTOMERS
DESCRIPTION:Entrepreneurs and SME leaders can receive a masterclass on gaining clients and keeping returning customers
URL:https://stage-bemore.awtg.net/events/how-to-get-and-keep-customers-426/
LOCATION:Liverpool
ATTACH;FMTTYPE=image/png:https://stage-bemore.awtg.net/wp-content/uploads/2022/10/stock-event.png
END:VEVENT
BEGIN:VEVENT
DTSTART;TZID=Europe/Paris:20221018T110000
DTEND;TZID=Europe/Paris:20221018T130000
DTSTAMP:20260421T103452
CREATED:20260417T013812Z
LAST-MODIFIED:20260417T013812Z
UID:10011875-1666090800-1666098000@stage-bemore.awtg.net
SUMMARY:HOW TO GET AND KEEP CUSTOMERS
DESCRIPTION:Entrepreneurs and SME leaders can receive a masterclass on gaining clients and keeping returning customers
URL:https://stage-bemore.awtg.net/events/how-to-get-and-keep-customers-425/
LOCATION:Liverpool
ATTACH;FMTTYPE=image/png:https://stage-bemore.awtg.net/wp-content/uploads/2022/10/stock-event.png
END:VEVENT
BEGIN:VEVENT
DTSTART;TZID=Europe/Paris:20221018T110000
DTEND;TZID=Europe/Paris:20221018T130000
DTSTAMP:20260421T103452
CREATED:20260416T134442Z
LAST-MODIFIED:20260416T134442Z
UID:10011874-1666090800-1666098000@stage-bemore.awtg.net
SUMMARY:HOW TO GET AND KEEP CUSTOMERS
DESCRIPTION:Entrepreneurs and SME leaders can receive a masterclass on gaining clients and keeping returning customers
URL:https://stage-bemore.awtg.net/events/how-to-get-and-keep-customers-424/
LOCATION:Liverpool
ATTACH;FMTTYPE=image/png:https://stage-bemore.awtg.net/wp-content/uploads/2022/10/stock-event.png
END:VEVENT
BEGIN:VEVENT
DTSTART;TZID=Europe/Paris:20221018T110000
DTEND;TZID=Europe/Paris:20221018T130000
DTSTAMP:20260421T103452
CREATED:20260416T014406Z
LAST-MODIFIED:20260416T014406Z
UID:10011873-1666090800-1666098000@stage-bemore.awtg.net
SUMMARY:HOW TO GET AND KEEP CUSTOMERS
DESCRIPTION:Entrepreneurs and SME leaders can receive a masterclass on gaining clients and keeping returning customers
URL:https://stage-bemore.awtg.net/events/how-to-get-and-keep-customers-423/
LOCATION:Liverpool
ATTACH;FMTTYPE=image/png:https://stage-bemore.awtg.net/wp-content/uploads/2022/10/stock-event.png
END:VEVENT
BEGIN:VEVENT
DTSTART;TZID=Europe/Paris:20221018T110000
DTEND;TZID=Europe/Paris:20221018T130000
DTSTAMP:20260421T103452
CREATED:20260415T134104Z
LAST-MODIFIED:20260415T134104Z
UID:10011872-1666090800-1666098000@stage-bemore.awtg.net
SUMMARY:HOW TO GET AND KEEP CUSTOMERS
DESCRIPTION:Entrepreneurs and SME leaders can receive a masterclass on gaining clients and keeping returning customers
URL:https://stage-bemore.awtg.net/events/how-to-get-and-keep-customers-422/
LOCATION:Liverpool
ATTACH;FMTTYPE=image/png:https://stage-bemore.awtg.net/wp-content/uploads/2022/10/stock-event.png
END:VEVENT
BEGIN:VEVENT
DTSTART;TZID=Europe/Paris:20221018T110000
DTEND;TZID=Europe/Paris:20221018T130000
DTSTAMP:20260421T103452
CREATED:20260415T013750Z
LAST-MODIFIED:20260415T013750Z
UID:10011871-1666090800-1666098000@stage-bemore.awtg.net
SUMMARY:HOW TO GET AND KEEP CUSTOMERS
DESCRIPTION:Entrepreneurs and SME leaders can receive a masterclass on gaining clients and keeping returning customers
URL:https://stage-bemore.awtg.net/events/how-to-get-and-keep-customers-421/
LOCATION:Liverpool
ATTACH;FMTTYPE=image/png:https://stage-bemore.awtg.net/wp-content/uploads/2022/10/stock-event.png
END:VEVENT
BEGIN:VEVENT
DTSTART;TZID=Europe/Paris:20221018T110000
DTEND;TZID=Europe/Paris:20221018T130000
DTSTAMP:20260421T103452
CREATED:20260414T134104Z
LAST-MODIFIED:20260414T134104Z
UID:10011870-1666090800-1666098000@stage-bemore.awtg.net
SUMMARY:HOW TO GET AND KEEP CUSTOMERS
DESCRIPTION:Entrepreneurs and SME leaders can receive a masterclass on gaining clients and keeping returning customers
URL:https://stage-bemore.awtg.net/events/how-to-get-and-keep-customers-420/
LOCATION:Liverpool
ATTACH;FMTTYPE=image/png:https://stage-bemore.awtg.net/wp-content/uploads/2022/10/stock-event.png
END:VEVENT
BEGIN:VEVENT
DTSTART;TZID=Europe/Paris:20221018T110000
DTEND;TZID=Europe/Paris:20221018T130000
DTSTAMP:20260421T103452
CREATED:20260414T014006Z
LAST-MODIFIED:20260414T014006Z
UID:10011869-1666090800-1666098000@stage-bemore.awtg.net
SUMMARY:HOW TO GET AND KEEP CUSTOMERS
DESCRIPTION:Entrepreneurs and SME leaders can receive a masterclass on gaining clients and keeping returning customers
URL:https://stage-bemore.awtg.net/events/how-to-get-and-keep-customers-419/
LOCATION:Liverpool
ATTACH;FMTTYPE=image/png:https://stage-bemore.awtg.net/wp-content/uploads/2022/10/stock-event.png
END:VEVENT
BEGIN:VEVENT
DTSTART;TZID=Europe/Paris:20221018T110000
DTEND;TZID=Europe/Paris:20221018T130000
DTSTAMP:20260421T103452
CREATED:20260413T134523Z
LAST-MODIFIED:20260413T134523Z
UID:10011868-1666090800-1666098000@stage-bemore.awtg.net
SUMMARY:HOW TO GET AND KEEP CUSTOMERS
DESCRIPTION:Entrepreneurs and SME leaders can receive a masterclass on gaining clients and keeping returning customers
URL:https://stage-bemore.awtg.net/events/how-to-get-and-keep-customers-418/
LOCATION:Liverpool
ATTACH;FMTTYPE=image/png:https://stage-bemore.awtg.net/wp-content/uploads/2022/10/stock-event.png
END:VEVENT
BEGIN:VEVENT
DTSTART;TZID=Europe/Paris:20221018T110000
DTEND;TZID=Europe/Paris:20221018T130000
DTSTAMP:20260421T103452
CREATED:20260413T013815Z
LAST-MODIFIED:20260413T013815Z
UID:10011867-1666090800-1666098000@stage-bemore.awtg.net
SUMMARY:HOW TO GET AND KEEP CUSTOMERS
DESCRIPTION:Entrepreneurs and SME leaders can receive a masterclass on gaining clients and keeping returning customers
URL:https://stage-bemore.awtg.net/events/how-to-get-and-keep-customers-417/
LOCATION:Liverpool
ATTACH;FMTTYPE=image/png:https://stage-bemore.awtg.net/wp-content/uploads/2022/10/stock-event.png
END:VEVENT
BEGIN:VEVENT
DTSTART;TZID=Europe/Paris:20221018T110000
DTEND;TZID=Europe/Paris:20221018T130000
DTSTAMP:20260421T103452
CREATED:20260412T133745Z
LAST-MODIFIED:20260412T133745Z
UID:10011866-1666090800-1666098000@stage-bemore.awtg.net
SUMMARY:HOW TO GET AND KEEP CUSTOMERS
DESCRIPTION:Entrepreneurs and SME leaders can receive a masterclass on gaining clients and keeping returning customers
URL:https://stage-bemore.awtg.net/events/how-to-get-and-keep-customers-416/
LOCATION:Liverpool
ATTACH;FMTTYPE=image/png:https://stage-bemore.awtg.net/wp-content/uploads/2022/10/stock-event.png
END:VEVENT
BEGIN:VEVENT
DTSTART;TZID=Europe/Paris:20221018T110000
DTEND;TZID=Europe/Paris:20221018T130000
DTSTAMP:20260421T103452
CREATED:20260412T013824Z
LAST-MODIFIED:20260412T013824Z
UID:10011865-1666090800-1666098000@stage-bemore.awtg.net
SUMMARY:HOW TO GET AND KEEP CUSTOMERS
DESCRIPTION:Entrepreneurs and SME leaders can receive a masterclass on gaining clients and keeping returning customers
URL:https://stage-bemore.awtg.net/events/how-to-get-and-keep-customers-415/
LOCATION:Liverpool
ATTACH;FMTTYPE=image/png:https://stage-bemore.awtg.net/wp-content/uploads/2022/10/stock-event.png
END:VEVENT
BEGIN:VEVENT
DTSTART;TZID=Europe/Paris:20221018T110000
DTEND;TZID=Europe/Paris:20221018T130000
DTSTAMP:20260421T103452
CREATED:20260411T133824Z
LAST-MODIFIED:20260411T133824Z
UID:10011864-1666090800-1666098000@stage-bemore.awtg.net
SUMMARY:HOW TO GET AND KEEP CUSTOMERS
DESCRIPTION:Entrepreneurs and SME leaders can receive a masterclass on gaining clients and keeping returning customers
URL:https://stage-bemore.awtg.net/events/how-to-get-and-keep-customers-414/
LOCATION:Liverpool
ATTACH;FMTTYPE=image/png:https://stage-bemore.awtg.net/wp-content/uploads/2022/10/stock-event.png
END:VEVENT
BEGIN:VEVENT
DTSTART;TZID=Europe/Paris:20221018T110000
DTEND;TZID=Europe/Paris:20221018T130000
DTSTAMP:20260421T103452
CREATED:20260411T013744Z
LAST-MODIFIED:20260411T013744Z
UID:10011863-1666090800-1666098000@stage-bemore.awtg.net
SUMMARY:HOW TO GET AND KEEP CUSTOMERS
DESCRIPTION:Entrepreneurs and SME leaders can receive a masterclass on gaining clients and keeping returning customers
URL:https://stage-bemore.awtg.net/events/how-to-get-and-keep-customers-413/
LOCATION:Liverpool
ATTACH;FMTTYPE=image/png:https://stage-bemore.awtg.net/wp-content/uploads/2022/10/stock-event.png
END:VEVENT
BEGIN:VEVENT
DTSTART;TZID=Europe/Paris:20221018T110000
DTEND;TZID=Europe/Paris:20221018T130000
DTSTAMP:20260421T103452
CREATED:20260410T133911Z
LAST-MODIFIED:20260410T133911Z
UID:10011862-1666090800-1666098000@stage-bemore.awtg.net
SUMMARY:HOW TO GET AND KEEP CUSTOMERS
DESCRIPTION:Entrepreneurs and SME leaders can receive a masterclass on gaining clients and keeping returning customers
URL:https://stage-bemore.awtg.net/events/how-to-get-and-keep-customers-412/
LOCATION:Liverpool
ATTACH;FMTTYPE=image/png:https://stage-bemore.awtg.net/wp-content/uploads/2022/10/stock-event.png
END:VEVENT
BEGIN:VEVENT
DTSTART;TZID=Europe/Paris:20221018T110000
DTEND;TZID=Europe/Paris:20221018T130000
DTSTAMP:20260421T103452
CREATED:20260410T013842Z
LAST-MODIFIED:20260410T013842Z
UID:10011861-1666090800-1666098000@stage-bemore.awtg.net
SUMMARY:HOW TO GET AND KEEP CUSTOMERS
DESCRIPTION:Entrepreneurs and SME leaders can receive a masterclass on gaining clients and keeping returning customers
URL:https://stage-bemore.awtg.net/events/how-to-get-and-keep-customers-411/
LOCATION:Liverpool
ATTACH;FMTTYPE=image/png:https://stage-bemore.awtg.net/wp-content/uploads/2022/10/stock-event.png
END:VEVENT
BEGIN:VEVENT
DTSTART;TZID=Europe/Paris:20221018T110000
DTEND;TZID=Europe/Paris:20221018T130000
DTSTAMP:20260421T103452
CREATED:20260409T134044Z
LAST-MODIFIED:20260409T134044Z
UID:10011860-1666090800-1666098000@stage-bemore.awtg.net
SUMMARY:HOW TO GET AND KEEP CUSTOMERS
DESCRIPTION:Entrepreneurs and SME leaders can receive a masterclass on gaining clients and keeping returning customers
URL:https://stage-bemore.awtg.net/events/how-to-get-and-keep-customers-410/
LOCATION:Liverpool
ATTACH;FMTTYPE=image/png:https://stage-bemore.awtg.net/wp-content/uploads/2022/10/stock-event.png
END:VEVENT
BEGIN:VEVENT
DTSTART;TZID=Europe/Paris:20221018T110000
DTEND;TZID=Europe/Paris:20221018T130000
DTSTAMP:20260421T103452
CREATED:20260409T013905Z
LAST-MODIFIED:20260409T013905Z
UID:10011859-1666090800-1666098000@stage-bemore.awtg.net
SUMMARY:HOW TO GET AND KEEP CUSTOMERS
DESCRIPTION:Entrepreneurs and SME leaders can receive a masterclass on gaining clients and keeping returning customers
URL:https://stage-bemore.awtg.net/events/how-to-get-and-keep-customers-409/
LOCATION:Liverpool
ATTACH;FMTTYPE=image/png:https://stage-bemore.awtg.net/wp-content/uploads/2022/10/stock-event.png
END:VEVENT
BEGIN:VEVENT
DTSTART;TZID=Europe/Paris:20221018T110000
DTEND;TZID=Europe/Paris:20221018T130000
DTSTAMP:20260421T103452
CREATED:20260408T134145Z
LAST-MODIFIED:20260408T134145Z
UID:10011858-1666090800-1666098000@stage-bemore.awtg.net
SUMMARY:HOW TO GET AND KEEP CUSTOMERS
DESCRIPTION:Entrepreneurs and SME leaders can receive a masterclass on gaining clients and keeping returning customers
URL:https://stage-bemore.awtg.net/events/how-to-get-and-keep-customers-408/
LOCATION:Liverpool
ATTACH;FMTTYPE=image/png:https://stage-bemore.awtg.net/wp-content/uploads/2022/10/stock-event.png
END:VEVENT
BEGIN:VEVENT
DTSTART;TZID=Europe/Paris:20221018T110000
DTEND;TZID=Europe/Paris:20221018T130000
DTSTAMP:20260421T103452
CREATED:20260408T013757Z
LAST-MODIFIED:20260408T013757Z
UID:10011857-1666090800-1666098000@stage-bemore.awtg.net
SUMMARY:HOW TO GET AND KEEP CUSTOMERS
DESCRIPTION:Entrepreneurs and SME leaders can receive a masterclass on gaining clients and keeping returning customers
URL:https://stage-bemore.awtg.net/events/how-to-get-and-keep-customers-407/
LOCATION:Liverpool
ATTACH;FMTTYPE=image/png:https://stage-bemore.awtg.net/wp-content/uploads/2022/10/stock-event.png
END:VEVENT
BEGIN:VEVENT
DTSTART;TZID=Europe/Paris:20221018T110000
DTEND;TZID=Europe/Paris:20221018T130000
DTSTAMP:20260421T103452
CREATED:20260407T133748Z
LAST-MODIFIED:20260407T133748Z
UID:10011856-1666090800-1666098000@stage-bemore.awtg.net
SUMMARY:HOW TO GET AND KEEP CUSTOMERS
DESCRIPTION:Entrepreneurs and SME leaders can receive a masterclass on gaining clients and keeping returning customers
URL:https://stage-bemore.awtg.net/events/how-to-get-and-keep-customers-406/
LOCATION:Liverpool
ATTACH;FMTTYPE=image/png:https://stage-bemore.awtg.net/wp-content/uploads/2022/10/stock-event.png
END:VEVENT
BEGIN:VEVENT
DTSTART;TZID=Europe/Paris:20221018T110000
DTEND;TZID=Europe/Paris:20221018T130000
DTSTAMP:20260421T103452
CREATED:20260407T014029Z
LAST-MODIFIED:20260407T014029Z
UID:10011855-1666090800-1666098000@stage-bemore.awtg.net
SUMMARY:HOW TO GET AND KEEP CUSTOMERS
DESCRIPTION:Entrepreneurs and SME leaders can receive a masterclass on gaining clients and keeping returning customers
URL:https://stage-bemore.awtg.net/events/how-to-get-and-keep-customers-405/
LOCATION:Liverpool
ATTACH;FMTTYPE=image/png:https://stage-bemore.awtg.net/wp-content/uploads/2022/10/stock-event.png
END:VEVENT
BEGIN:VEVENT
DTSTART;TZID=Europe/Paris:20221018T110000
DTEND;TZID=Europe/Paris:20221018T130000
DTSTAMP:20260421T103452
CREATED:20260406T133751Z
LAST-MODIFIED:20260406T133751Z
UID:10011854-1666090800-1666098000@stage-bemore.awtg.net
SUMMARY:HOW TO GET AND KEEP CUSTOMERS
DESCRIPTION:Entrepreneurs and SME leaders can receive a masterclass on gaining clients and keeping returning customers
URL:https://stage-bemore.awtg.net/events/how-to-get-and-keep-customers-404/
LOCATION:Liverpool
ATTACH;FMTTYPE=image/png:https://stage-bemore.awtg.net/wp-content/uploads/2022/10/stock-event.png
END:VEVENT
BEGIN:VEVENT
DTSTART;TZID=Europe/Paris:20221018T110000
DTEND;TZID=Europe/Paris:20221018T130000
DTSTAMP:20260421T103452
CREATED:20260406T013750Z
LAST-MODIFIED:20260406T013750Z
UID:10011853-1666090800-1666098000@stage-bemore.awtg.net
SUMMARY:HOW TO GET AND KEEP CUSTOMERS
DESCRIPTION:Entrepreneurs and SME leaders can receive a masterclass on gaining clients and keeping returning customers
URL:https://stage-bemore.awtg.net/events/how-to-get-and-keep-customers-403/
LOCATION:Liverpool
ATTACH;FMTTYPE=image/png:https://stage-bemore.awtg.net/wp-content/uploads/2022/10/stock-event.png
END:VEVENT
BEGIN:VEVENT
DTSTART;TZID=Europe/Paris:20221018T110000
DTEND;TZID=Europe/Paris:20221018T130000
DTSTAMP:20260421T103452
CREATED:20260405T133823Z
LAST-MODIFIED:20260405T133823Z
UID:10011852-1666090800-1666098000@stage-bemore.awtg.net
SUMMARY:HOW TO GET AND KEEP CUSTOMERS
DESCRIPTION:Entrepreneurs and SME leaders can receive a masterclass on gaining clients and keeping returning customers
URL:https://stage-bemore.awtg.net/events/how-to-get-and-keep-customers-402/
LOCATION:Liverpool
ATTACH;FMTTYPE=image/png:https://stage-bemore.awtg.net/wp-content/uploads/2022/10/stock-event.png
END:VEVENT
END:VCALENDAR